BEGIN:VCALENDAR
VERSION:2.0
PRODID:-//Oldtimer-Freunde Manching - ECPv6.15.13//NONSGML v1.0//EN
CALSCALE:GREGORIAN
METHOD:PUBLISH
X-ORIGINAL-URL:https://oldtimer-freunde-manching.de
X-WR-CALDESC:Veranstaltungen für Oldtimer-Freunde Manching
REFRESH-INTERVAL;VALUE=DURATION:PT1H
X-Robots-Tag:noindex
X-PUBLISHED-TTL:PT1H
BEGIN:VTIMEZONE
TZID:Europe/Berlin
BEGIN:DAYLIGHT
TZOFFSETFROM:+0100
TZOFFSETTO:+0200
TZNAME:CEST
DTSTART:20210328T010000
END:DAYLIGHT
BEGIN:STANDARD
TZOFFSETFROM:+0200
TZOFFSETTO:+0100
TZNAME:CET
DTSTART:20211031T010000
END:STANDARD
BEGIN:DAYLIGHT
TZOFFSETFROM:+0100
TZOFFSETTO:+0200
TZNAME:CEST
DTSTART:20220327T010000
END:DAYLIGHT
BEGIN:STANDARD
TZOFFSETFROM:+0200
TZOFFSETTO:+0100
TZNAME:CET
DTSTART:20221030T010000
END:STANDARD
BEGIN:DAYLIGHT
TZOFFSETFROM:+0100
TZOFFSETTO:+0200
TZNAME:CEST
DTSTART:20230326T010000
END:DAYLIGHT
BEGIN:STANDARD
TZOFFSETFROM:+0200
TZOFFSETTO:+0100
TZNAME:CET
DTSTART:20231029T010000
END:STANDARD
END:VTIMEZONE
BEGIN:VEVENT
DTSTART;TZID=Europe/Berlin:20220819T080000
DTEND;TZID=Europe/Berlin:20220821T170000
DTSTAMP:20260424T084031
CREATED:20220421T190643Z
LAST-MODIFIED:20220421T192438Z
UID:2512-1660896000-1661101200@oldtimer-freunde-manching.de
SUMMARY:19.08. – 21.08. 89435 Finningen Feldtag
DESCRIPTION:19.08. – 21.08.\n89435 Finningen\n8. Feldtage und 20-Jähriges Vereinsbestehen\nTraktorenfreunde Finningen e.V.\, Thomas Braun\, Tel. (0 90 74) 28 85 od. (01 72) 2 14 07 96\, info@trakrorenfreunde-finningen.de\, http://traktorenfreunde-finningen.de19.08. – 21.08.
URL:https://oldtimer-freunde-manching.de/event/19-08-21-08-89435-finningen-feldtag/
CATEGORIES:Oltimertreffen
END:VEVENT
END:VCALENDAR