BEGIN:VCALENDAR
VERSION:2.0
PRODID:-//Oldtimer-Freunde Manching - ECPv6.15.13//NONSGML v1.0//EN
CALSCALE:GREGORIAN
METHOD:PUBLISH
X-ORIGINAL-URL:https://oldtimer-freunde-manching.de
X-WR-CALDESC:Veranstaltungen für Oldtimer-Freunde Manching
REFRESH-INTERVAL;VALUE=DURATION:PT1H
X-Robots-Tag:noindex
X-PUBLISHED-TTL:PT1H
BEGIN:VTIMEZONE
TZID:Europe/Berlin
BEGIN:DAYLIGHT
TZOFFSETFROM:+0100
TZOFFSETTO:+0200
TZNAME:CEST
DTSTART:20220327T010000
END:DAYLIGHT
BEGIN:STANDARD
TZOFFSETFROM:+0200
TZOFFSETTO:+0100
TZNAME:CET
DTSTART:20221030T010000
END:STANDARD
BEGIN:DAYLIGHT
TZOFFSETFROM:+0100
TZOFFSETTO:+0200
TZNAME:CEST
DTSTART:20230326T010000
END:DAYLIGHT
BEGIN:STANDARD
TZOFFSETFROM:+0200
TZOFFSETTO:+0100
TZNAME:CET
DTSTART:20231029T010000
END:STANDARD
BEGIN:DAYLIGHT
TZOFFSETFROM:+0100
TZOFFSETTO:+0200
TZNAME:CEST
DTSTART:20240331T010000
END:DAYLIGHT
BEGIN:STANDARD
TZOFFSETFROM:+0200
TZOFFSETTO:+0100
TZNAME:CET
DTSTART:20241027T010000
END:STANDARD
END:VTIMEZONE
BEGIN:VEVENT
DTSTART;VALUE=DATE:20230423
DTEND;VALUE=DATE:20230424
DTSTAMP:20260423T183720
CREATED:20230403T163611Z
LAST-MODIFIED:20230403T163852Z
UID:2820-1682208000-1682294399@oldtimer-freunde-manching.de
SUMMARY:Bulldogtreffen am Handwerkermuseum anlässlich Georgiemarkt Pförring
DESCRIPTION:Georgimarkt 2023\n\n\n\n\n\nWir freuen uns sehr\, dass es in diesem Jahr endlich wieder soweit ist. Der Georgimarkt steht vor der Türe und wir laden Groß und Klein\, Jung und Alt herzlich dazu ein\, mit uns diesen traditionellen Markttag zu feiern. Sie erwartet bei hoffentlich frühlingshaftem Wetter ein bunter Mix aus Markttreiben\, Kinderunterhaltung\, Gastronomie sowie viele schöne Eindrücke. Ganz besonders macht unseren Georgimarkt neben der herzlichen\, offenen Gesellschaft auch das Oldtimer-Treffen\, bei dem Sie historische Traktoren\, Autos und Motorräder bestaunen können. Wir freuen uns auf Ihren Besuch! \n\n\n\n\n\n\n\n\n\n\n\n\n\n\n\n\n\nDas vielfältiges Programm mit zahlreichen Attraktionen umfasst Ausstellungen und Einkaufsmöglichkeiten bei unseren ortsansässigen Geschäften\, exklusiven Angeboten aus der Region von unseren zahlreichen Fieranten\, über Unterhaltungsprogramm bis hin zu den besten Schmankerln aus der heimischen und internationalen Küche. Ganz besonders macht unseren Georgimarkt neben der herzlichen\, offenen Gesellschaft auch das Oldtimer-Treffen\, bei dem Sie historische Traktoren\, Autos und Motorräder bestaunen können. \n\n\n\n\n\n\n\n\n\n\n\n\nOldtimertreffen\n\n\n Zahlreiche automobile Schätze werden dem Publikum beim jährlichen Fahrzeugkorso am Pförringer Marktplatz vorgestellt. Zur genaueren Betrachtung befindet sich das Fahrerlager anschließend im Ungergarten. \n\n\n\n\n\n\n\nVerkaufsoffener Sonntag\n\n\nZahlreiche ortsansässige Geschäfte bieten auch am Marktsonntag interessante Ausstellungen\, sowie attraktive Einkaufsmöglichkeiten mit exklusiven Aktionen und Angeboten. \n\n\n\n\n\n\n\nTragl-Stapeln\n\n\nDer Marktsonntag bietet ein echtes Highlight für alle Kletterfans! Die vom Jugendtreff Pförring organisierte Challenge besteht darin\, sich auf Getränkekisten möglichst hoch zu bauen.\n \n\n\n\n\n\n\n\nLöschübungen\n\n\nLassen Sie sich von der Feuerwehrjugend bei speziellen Löschübungen begeistern. Außerdem gewährt die FFW Pförring Einblicke in deren Hallen und stellt die Feuerwehrfahrzeuge vor. \n\n\n\n\n\n\n\nBulldogparade\n\n\nBei Kaffee und Kuchen können Sie die Bulldogparade genießen. Besuchen Sie das Handwerkermuseum und Haus der Vereine\, in denen historische Gegenstände ausgestellt werden.\n \n\n\n\n\n\n\n\nLive-Musik & Tanzshow\n\n\nOrtsansässige Tanzgruppen liefern am Marktplatz packende Shows. Bei erstklassiger Livemusik im Ungergarten können Sie den Marktsonntag entspannt ausklingen lassen. \n\n\n\n\n\n\nJeden 4. Sonntag im April!
URL:https://oldtimer-freunde-manching.de/event/bulldogtreffen-am-handwerkermuseum-anlaesslich-georgiemarkt-pfoerring/
CATEGORIES:Oltimertreffen
END:VEVENT
END:VCALENDAR