BEGIN:VCALENDAR
VERSION:2.0
PRODID:-//Oldtimer-Freunde Manching - ECPv6.15.13//NONSGML v1.0//EN
CALSCALE:GREGORIAN
METHOD:PUBLISH
X-WR-CALNAME:Oldtimer-Freunde Manching
X-ORIGINAL-URL:https://oldtimer-freunde-manching.de
X-WR-CALDESC:Veranstaltungen für Oldtimer-Freunde Manching
REFRESH-INTERVAL;VALUE=DURATION:PT1H
X-Robots-Tag:noindex
X-PUBLISHED-TTL:PT1H
BEGIN:VTIMEZONE
TZID:Europe/Berlin
BEGIN:DAYLIGHT
TZOFFSETFROM:+0100
TZOFFSETTO:+0200
TZNAME:CEST
DTSTART:20220327T010000
END:DAYLIGHT
BEGIN:STANDARD
TZOFFSETFROM:+0200
TZOFFSETTO:+0100
TZNAME:CET
DTSTART:20221030T010000
END:STANDARD
BEGIN:DAYLIGHT
TZOFFSETFROM:+0100
TZOFFSETTO:+0200
TZNAME:CEST
DTSTART:20230326T010000
END:DAYLIGHT
BEGIN:STANDARD
TZOFFSETFROM:+0200
TZOFFSETTO:+0100
TZNAME:CET
DTSTART:20231029T010000
END:STANDARD
BEGIN:DAYLIGHT
TZOFFSETFROM:+0100
TZOFFSETTO:+0200
TZNAME:CEST
DTSTART:20240331T010000
END:DAYLIGHT
BEGIN:STANDARD
TZOFFSETFROM:+0200
TZOFFSETTO:+0100
TZNAME:CET
DTSTART:20241027T010000
END:STANDARD
END:VTIMEZONE
BEGIN:VEVENT
DTSTART;TZID=Europe/Berlin:20230514T100000
DTEND;TZID=Europe/Berlin:20230514T200000
DTSTAMP:20260423T171800
CREATED:20230309T174122Z
LAST-MODIFIED:20230309T174436Z
UID:2711-1684058400-1684094400@oldtimer-freunde-manching.de
SUMMARY:Oldtimertreffen in Windsbach
DESCRIPTION:Oldtimer-Treffen zum großen Vereinsjubiläum\n13./14.05.2023\n\n\n\n\nDer Motorsportclub Windsbach e.V. lädt alle Oldtimer-Liebhaber herzlich zu unserem Oldtimer-Treffen am 14. Mai 2023 ein. Dieses Jahr feiern wir gleichzeitig unser 50-jähriges Vereinsjubiläum und wir würden uns freuen\, dies mit Ihnen zusammen zu feiern. \nIn den vergangenen Jahren haben wir erfolgreich Oldtimer-Treffen im Jahr 2003\, 2008 und 2013 veranstaltet und wir freuen uns darauf\, diese Tradition fortzusetzen. Das Treffen bietet die Möglichkeit\, seltene und historische Fahrzeuge zu sehen und von anderen Enthusiasten zu hören. \nDas Treffen findet im Herzen von Windsbach statt und wird eine Vielzahl von Aktivitäten und Attraktionen für die ganze Familie bieten. Es wird eine Ausstellung von Oldtimern\, sowie ein Rahmenprogramm mit Musik und Essen geben. \nWir freuen uns auf Ihren Besuch und darauf\, gemeinsam mit Ihnen unser 50-jähriges Vereinsjubiläum zu feiern. Melden Sie sich jetzt an und sichern Sie sich Ihren Platz bei einem der aufregendsten Oldtimer-Treffen des Jahres. \nProgrammablauf\nSonntag\, 14.05.2023 \nab 10.00 Uhr Eintreffen der Oldtimer Fahrzeuge \nab 10.30 Uhr Weißwurst-Frühschoppen \nab 10.30 Uhr Live-Musik die Wittmann´s Buam \n\nReichhaltiger Mittagstisch – „fränkisch\, deftig\, gut“ \n13:00 Uhr Muttertagsspezial mit Überraschung & Geschenk \nab 14.00 Uhr Kaffee / Kuchen \n15.30 Uhr Ehrungen und Preisverteilung \n\n\n\n\nHier geht&#8217;s zur Online-Anmeldung!
URL:https://oldtimer-freunde-manching.de/event/oldtimertreffen-in-windsbach/
CATEGORIES:Oltimertreffen
END:VEVENT
END:VCALENDAR