BEGIN:VCALENDAR
VERSION:2.0
PRODID:-//Oldtimer-Freunde Manching - ECPv6.15.13//NONSGML v1.0//EN
CALSCALE:GREGORIAN
METHOD:PUBLISH
X-WR-CALNAME:Oldtimer-Freunde Manching
X-ORIGINAL-URL:https://oldtimer-freunde-manching.de
X-WR-CALDESC:Veranstaltungen für Oldtimer-Freunde Manching
REFRESH-INTERVAL;VALUE=DURATION:PT1H
X-Robots-Tag:noindex
X-PUBLISHED-TTL:PT1H
BEGIN:VTIMEZONE
TZID:Europe/Berlin
BEGIN:DAYLIGHT
TZOFFSETFROM:+0100
TZOFFSETTO:+0200
TZNAME:CEST
DTSTART:20220327T010000
END:DAYLIGHT
BEGIN:STANDARD
TZOFFSETFROM:+0200
TZOFFSETTO:+0100
TZNAME:CET
DTSTART:20221030T010000
END:STANDARD
BEGIN:DAYLIGHT
TZOFFSETFROM:+0100
TZOFFSETTO:+0200
TZNAME:CEST
DTSTART:20230326T010000
END:DAYLIGHT
BEGIN:STANDARD
TZOFFSETFROM:+0200
TZOFFSETTO:+0100
TZNAME:CET
DTSTART:20231029T010000
END:STANDARD
BEGIN:DAYLIGHT
TZOFFSETFROM:+0100
TZOFFSETTO:+0200
TZNAME:CEST
DTSTART:20240331T010000
END:DAYLIGHT
BEGIN:STANDARD
TZOFFSETFROM:+0200
TZOFFSETTO:+0100
TZNAME:CET
DTSTART:20241027T010000
END:STANDARD
END:VTIMEZONE
BEGIN:VEVENT
DTSTART;TZID=Europe/Berlin:20230529T100000
DTEND;TZID=Europe/Berlin:20230529T150000
DTSTAMP:20260423T154758
CREATED:20230316T060504Z
LAST-MODIFIED:20230316T060533Z
UID:2792-1685354400-1685372400@oldtimer-freunde-manching.de
SUMMARY:Oldtimertreffen Weichering
DESCRIPTION:29\nMai\n\nOldtimertreffen Weichering\n\n\n\n  \n\n\n\n\n\n\n\n\n\n\n\n\n\n\n\n\n\n\n\n\n\n\nVeranstaltung speichern \n\n\n\n\n\nWeitere Informationen\n\n\n\n\n\n\nRoutenplaner\n\n\n\n\n\n\n\n\n\n\n\n\nTeilen\n\n\n\n\n\n\n\n\n\n\n\n\n\n\n\n\n\n\n\n\n\n\n\n\n \n\n\n\n\n\n\n\n\n\n\n\nDetails\n\n\n\n\nMo.\, 29. Mai\, 10:00\n\n\n\n\n\nLandgasthof Vogelsang oHG\nBahnhofstraße 24\, Weichering\n\n\nHallo Oldtimer-Freunde Landgasthof Vogelsang in Weichering Pfingstmontag 29.05.23 Findet zum 7-mal das Oldtimertreffen in Weichering wieder statt Liebhaber von historischen Autos\, Motorrädern und&#8230;Weitere Informationen zu AllEvents.in
URL:https://oldtimer-freunde-manching.de/event/oldtimertreffen-weichering/
CATEGORIES:Oltimertreffen
END:VEVENT
END:VCALENDAR