BEGIN:VCALENDAR
VERSION:2.0
PRODID:-//Oldtimer-Freunde Manching - ECPv6.15.13//NONSGML v1.0//EN
CALSCALE:GREGORIAN
METHOD:PUBLISH
X-ORIGINAL-URL:https://oldtimer-freunde-manching.de
X-WR-CALDESC:Veranstaltungen fÃ¼r Oldtimer-Freunde Manching
REFRESH-INTERVAL;VALUE=DURATION:PT1H
X-Robots-Tag:noindex
X-PUBLISHED-TTL:PT1H
BEGIN:VTIMEZONE
TZID:Europe/Berlin
BEGIN:DAYLIGHT
TZOFFSETFROM:+0100
TZOFFSETTO:+0200
TZNAME:CEST
DTSTART:20220327T010000
END:DAYLIGHT
BEGIN:STANDARD
TZOFFSETFROM:+0200
TZOFFSETTO:+0100
TZNAME:CET
DTSTART:20221030T010000
END:STANDARD
BEGIN:DAYLIGHT
TZOFFSETFROM:+0100
TZOFFSETTO:+0200
TZNAME:CEST
DTSTART:20230326T010000
END:DAYLIGHT
BEGIN:STANDARD
TZOFFSETFROM:+0200
TZOFFSETTO:+0100
TZNAME:CET
DTSTART:20231029T010000
END:STANDARD
BEGIN:DAYLIGHT
TZOFFSETFROM:+0100
TZOFFSETTO:+0200
TZNAME:CEST
DTSTART:20240331T010000
END:DAYLIGHT
BEGIN:STANDARD
TZOFFSETFROM:+0200
TZOFFSETTO:+0100
TZNAME:CET
DTSTART:20241027T010000
END:STANDARD
END:VTIMEZONE
BEGIN:VEVENT
DTSTART;TZID=Europe/Berlin:20230715T080000
DTEND;TZID=Europe/Berlin:20230715T200000
DTSTAMP:20260422T171950
CREATED:20230308T054935Z
LAST-MODIFIED:20230707T171852Z
UID:2692-1689408000-1689451200@oldtimer-freunde-manching.de
SUMMARY:Fendt Verdampfertreffen in  Marktoberdorf
DESCRIPTION:â˜… 15.07.\n87616 Marktoberdorf\nFendt Verdampfertreffen im Fendt Forum\nFendt Classic Club International e.V.\, Sepp Nuscheler\, Tel. (01 71) 4 13 55 81\, sepp.nuscheler@fendt-classic.com\, https://www.fendt.com/de/fendt-classic-club-international \n  \nProgramm: \n\n\n9 Uhr: Eintreffen der historischen Fahrzeuge\, SicherheitsprÃ¼fung\, Aufstellung nach Fgst.-Nr\n10 Uhr: FrÃ¼hschoppen mit Blasmusik und Beginn Rahmenprogramm &#8222;lebendiges\, historisches AllgÃ¤u&#8220;\n10.30 Uhr: Offizielle ErÃ¶ffnung und BegrÃ¼ÃŸung durch FCCI-Vorstandschaft und Fendt-GeschÃ¤ftsfÃ¼hrung\n11 Uhr: Praktische VorfÃ¼hrungen mit Verdampfern\, Begegnung mit Fahrern und Fahrzeugen\n12 Uhr: PrÃ¤mierung der Fahrzeuge durch eine Fachjury\, Preisverleihung\n14 Uhr: Beginn Rundfahrt durch das Stadtgebiet Marktoberdorf (durch das Fendt Tor\, vorbei an Villa Fam. Fendt)\n16 Uhr: Verabschiedung\n\n\n\nDen ganzen Tag Ã¼ber werden Speisen und GetrÃ¤nke auf dem GelÃ¤nde angeboten.
URL:https://oldtimer-freunde-manching.de/event/fendt-verdampfertreffen-in-marktoberdorf/
CATEGORIES:Oltimertreffen
END:VEVENT
END:VCALENDAR