BEGIN:VCALENDAR
VERSION:2.0
PRODID:-//Oldtimer-Freunde Manching - ECPv6.15.13//NONSGML v1.0//EN
CALSCALE:GREGORIAN
METHOD:PUBLISH
X-WR-CALNAME:Oldtimer-Freunde Manching
X-ORIGINAL-URL:https://oldtimer-freunde-manching.de
X-WR-CALDESC:Veranstaltungen für Oldtimer-Freunde Manching
REFRESH-INTERVAL;VALUE=DURATION:PT1H
X-Robots-Tag:noindex
X-PUBLISHED-TTL:PT1H
BEGIN:VTIMEZONE
TZID:Europe/Berlin
BEGIN:DAYLIGHT
TZOFFSETFROM:+0100
TZOFFSETTO:+0200
TZNAME:CEST
DTSTART:20220327T010000
END:DAYLIGHT
BEGIN:STANDARD
TZOFFSETFROM:+0200
TZOFFSETTO:+0100
TZNAME:CET
DTSTART:20221030T010000
END:STANDARD
BEGIN:DAYLIGHT
TZOFFSETFROM:+0100
TZOFFSETTO:+0200
TZNAME:CEST
DTSTART:20230326T010000
END:DAYLIGHT
BEGIN:STANDARD
TZOFFSETFROM:+0200
TZOFFSETTO:+0100
TZNAME:CET
DTSTART:20231029T010000
END:STANDARD
BEGIN:DAYLIGHT
TZOFFSETFROM:+0100
TZOFFSETTO:+0200
TZNAME:CEST
DTSTART:20240331T010000
END:DAYLIGHT
BEGIN:STANDARD
TZOFFSETFROM:+0200
TZOFFSETTO:+0100
TZNAME:CET
DTSTART:20241027T010000
END:STANDARD
END:VTIMEZONE
BEGIN:VEVENT
DTSTART;TZID=Europe/Berlin:20230826T120000
DTEND;TZID=Europe/Berlin:20230827T170000
DTSTAMP:20260421T104405
CREATED:20230309T055640Z
LAST-MODIFIED:20230309T055645Z
UID:2708-1693051200-1693155600@oldtimer-freunde-manching.de
SUMMARY:Eichertreffen Türkenfeld
DESCRIPTION:Abfahrt Samstag den 26.08.23  gegen Mittag\, Heimfahrt Sonntag den27.08.23 gegen  16/17 Uhr. \nNächstes Eichertreffen\nDas nächste geplante internationale EICHERTREFFEN in Türkenfeld findet am 26.-27. August 2023 statt.
URL:https://oldtimer-freunde-manching.de/event/eichertreffen-tuerkenfeld-2/
CATEGORIES:Oltimertreffen
END:VEVENT
END:VCALENDAR