BEGIN:VCALENDAR
VERSION:2.0
PRODID:-//Oldtimer-Freunde Manching - ECPv6.15.13//NONSGML v1.0//EN
CALSCALE:GREGORIAN
METHOD:PUBLISH
X-WR-CALNAME:Oldtimer-Freunde Manching
X-ORIGINAL-URL:https://oldtimer-freunde-manching.de
X-WR-CALDESC:Veranstaltungen fÃ¼r Oldtimer-Freunde Manching
REFRESH-INTERVAL;VALUE=DURATION:PT1H
X-Robots-Tag:noindex
X-PUBLISHED-TTL:PT1H
BEGIN:VTIMEZONE
TZID:Europe/Berlin
BEGIN:DAYLIGHT
TZOFFSETFROM:+0100
TZOFFSETTO:+0200
TZNAME:CEST
DTSTART:20230326T010000
END:DAYLIGHT
BEGIN:STANDARD
TZOFFSETFROM:+0200
TZOFFSETTO:+0100
TZNAME:CET
DTSTART:20231029T010000
END:STANDARD
BEGIN:DAYLIGHT
TZOFFSETFROM:+0100
TZOFFSETTO:+0200
TZNAME:CEST
DTSTART:20240331T010000
END:DAYLIGHT
BEGIN:STANDARD
TZOFFSETFROM:+0200
TZOFFSETTO:+0100
TZNAME:CET
DTSTART:20241027T010000
END:STANDARD
BEGIN:DAYLIGHT
TZOFFSETFROM:+0100
TZOFFSETTO:+0200
TZNAME:CEST
DTSTART:20250330T010000
END:DAYLIGHT
BEGIN:STANDARD
TZOFFSETFROM:+0200
TZOFFSETTO:+0100
TZNAME:CET
DTSTART:20251026T010000
END:STANDARD
END:VTIMEZONE
BEGIN:VEVENT
DTSTART;VALUE=DATE:20240824
DTEND;VALUE=DATE:20240826
DTSTAMP:20260420T123528
CREATED:20240617T142746Z
LAST-MODIFIED:20240617T142747Z
UID:2869-1724457600-1724630399@oldtimer-freunde-manching.de
SUMMARY:VereinsjubilÃ¤um
DESCRIPTION:Am Samstag und Sonntag Oldtimertreffen \nSamstag  ab 10: 00 Uhr LeistungsprÃ¼fung \n13:00 Uhr Baumstammziehen zur Probe. \nAb 19:00 Uhr Oldtimerparty mit Rotzfrech ( Band ) \nSonntag. 25.08.2024 \nAb 10:Uhr Start Baumstammziehen nach Abschluss Preisverleihung. \nFÃ¼r Musikalische Unterhaltung sorgt Maxi Achatz.
URL:https://oldtimer-freunde-manching.de/event/vereinsjubilaeum/
LOCATION:Schaufling\, Niederbayern\, Deutschland
CATEGORIES:Events,Oltimertreffen
END:VEVENT
END:VCALENDAR