BEGIN:VCALENDAR
VERSION:2.0
PRODID:-//Oldtimer-Freunde Manching - ECPv6.15.13//NONSGML v1.0//EN
CALSCALE:GREGORIAN
METHOD:PUBLISH
X-ORIGINAL-URL:https://oldtimer-freunde-manching.de
X-WR-CALDESC:Veranstaltungen für Oldtimer-Freunde Manching
REFRESH-INTERVAL;VALUE=DURATION:PT1H
X-Robots-Tag:noindex
X-PUBLISHED-TTL:PT1H
BEGIN:VTIMEZONE
TZID:Europe/Berlin
BEGIN:DAYLIGHT
TZOFFSETFROM:+0100
TZOFFSETTO:+0200
TZNAME:CEST
DTSTART:20240331T010000
END:DAYLIGHT
BEGIN:STANDARD
TZOFFSETFROM:+0200
TZOFFSETTO:+0100
TZNAME:CET
DTSTART:20241027T010000
END:STANDARD
BEGIN:DAYLIGHT
TZOFFSETFROM:+0100
TZOFFSETTO:+0200
TZNAME:CEST
DTSTART:20250330T010000
END:DAYLIGHT
BEGIN:STANDARD
TZOFFSETFROM:+0200
TZOFFSETTO:+0100
TZNAME:CET
DTSTART:20251026T010000
END:STANDARD
BEGIN:DAYLIGHT
TZOFFSETFROM:+0100
TZOFFSETTO:+0200
TZNAME:CEST
DTSTART:20260329T010000
END:DAYLIGHT
BEGIN:STANDARD
TZOFFSETFROM:+0200
TZOFFSETTO:+0100
TZNAME:CET
DTSTART:20261025T010000
END:STANDARD
END:VTIMEZONE
BEGIN:VEVENT
DTSTART;VALUE=DATE:20250719
DTEND;VALUE=DATE:20250721
DTSTAMP:20260419T174252
CREATED:20250615T093013Z
LAST-MODIFIED:20250615T093225Z
UID:2944-1752883200-1753055999@oldtimer-freunde-manching.de
SUMMARY:Oldtimertreffen in Maxlrain
DESCRIPTION:Oldtimertreffen in Maxlrain 19 u 20 Juli 2025.
URL:https://oldtimer-freunde-manching.de/event/hopfenfest-in-mainburg/
CATEGORIES:Oltimertreffen
END:VEVENT
BEGIN:VEVENT
DTSTART;VALUE=DATE:20250720
DTEND;VALUE=DATE:20250721
DTSTAMP:20260419T174252
CREATED:20250608T125613Z
LAST-MODIFIED:20250608T125613Z
UID:2937-1752969600-1753055999@oldtimer-freunde-manching.de
SUMMARY:Oltimertreffen
DESCRIPTION:In Maxlrain findet das Oldtimertreffen für Traktor und Bulldogs statt .Am20.07.2025.
URL:https://oldtimer-freunde-manching.de/event/oltimertreffen/
CATEGORIES:Oltimertreffen
END:VEVENT
END:VCALENDAR