BEGIN:VCALENDAR
VERSION:2.0
PRODID:-//Oldtimer-Freunde Manching - ECPv6.15.13//NONSGML v1.0//EN
CALSCALE:GREGORIAN
METHOD:PUBLISH
X-ORIGINAL-URL:https://oldtimer-freunde-manching.de
X-WR-CALDESC:Veranstaltungen fÃ¼r Oldtimer-Freunde Manching
REFRESH-INTERVAL;VALUE=DURATION:PT1H
X-Robots-Tag:noindex
X-PUBLISHED-TTL:PT1H
BEGIN:VTIMEZONE
TZID:Europe/Berlin
BEGIN:DAYLIGHT
TZOFFSETFROM:+0100
TZOFFSETTO:+0200
TZNAME:CEST
DTSTART:20210328T010000
END:DAYLIGHT
BEGIN:STANDARD
TZOFFSETFROM:+0200
TZOFFSETTO:+0100
TZNAME:CET
DTSTART:20211031T010000
END:STANDARD
BEGIN:DAYLIGHT
TZOFFSETFROM:+0100
TZOFFSETTO:+0200
TZNAME:CEST
DTSTART:20220327T010000
END:DAYLIGHT
BEGIN:STANDARD
TZOFFSETFROM:+0200
TZOFFSETTO:+0100
TZNAME:CET
DTSTART:20221030T010000
END:STANDARD
BEGIN:DAYLIGHT
TZOFFSETFROM:+0100
TZOFFSETTO:+0200
TZNAME:CEST
DTSTART:20230326T010000
END:DAYLIGHT
BEGIN:STANDARD
TZOFFSETFROM:+0200
TZOFFSETTO:+0100
TZNAME:CET
DTSTART:20231029T010000
END:STANDARD
END:VTIMEZONE
BEGIN:VEVENT
DTSTART;VALUE=DATE:20220603
DTEND;VALUE=DATE:20220608
DTSTAMP:20260424T103204
CREATED:20220420T165933Z
LAST-MODIFIED:20220420T171733Z
UID:2487-1654214400-1654646399@oldtimer-freunde-manching.de
SUMMARY:6. Eicher-Traktor-Treffen in Vomp am 4.-5.6.2022
DESCRIPTION:6. Eicher-Traktor-Treffen in Vomp\, Tirol mit Ausfahrt am 4.6. vom Hupfen-Hof\, Fam. Kreidl\, Altmahd 109\, A-6134 Vomp\n\n\n\nwir wollen am Freitag 03.06.2022 in der FrÃ¼h abfahren. \nSamstag und Sonntag ist das Eichertreffen. \nMontag wollen wir uns das Bergwerk in Schwaz anschauen. \nam Dienstagabend 07.06.2022 kommen wir wieder zurÃ¼ck. Es wird mit der schnellen Gruppe gefahren. \n 
URL:https://oldtimer-freunde-manching.de/event/6-eicher-traktor-treffen-in-vomp-am-4-5-6-2022/
LOCATION:Vomp Tirol\, Altmahd 109\, A-6134 Vomp\, Tirol\, Ã–sterreich
CATEGORIES:Oltimertreffen
END:VEVENT
BEGIN:VEVENT
DTSTART;TZID=Europe/Berlin:20220603T080000
DTEND;TZID=Europe/Berlin:20220606T233000
DTSTAMP:20260424T103204
CREATED:20220422T080038Z
LAST-MODIFIED:20220422T080039Z
UID:2518-1654243200-1654558200@oldtimer-freunde-manching.de
SUMMARY:Drum Herum
DESCRIPTION:Drum Herum Volksmusikspektakel in Regen vom 03.06 &#8211; 06.06.2022 .
URL:https://oldtimer-freunde-manching.de/event/drum-herum/
CATEGORIES:Events
END:VEVENT
BEGIN:VEVENT
DTSTART;TZID=Europe/Berlin:20220611T120000
DTEND;TZID=Europe/Berlin:20220612T200000
DTSTAMP:20260424T103204
CREATED:20220420T172429Z
LAST-MODIFIED:20220421T184037Z
UID:2497-1654948800-1655064000@oldtimer-freunde-manching.de
SUMMARY:7. Int. Deutztreffen am 12.06.2022 in D 92342 Thannhausen
DESCRIPTION:Am 11.06.2022 wollen wir Samstagmittag zum Deutztreffen nach Thannhausen fahren\, wir kommen wieder am 12.06.2022 Abends zurÃ¼ck
URL:https://oldtimer-freunde-manching.de/event/7-int-deutztreffen-u-v-m-wird-am-12-06-2022-in-d-92342-thannhausen/
LOCATION:Thannhausen\, Thannhausen\, Bayern\, 92342\, Deutschland
CATEGORIES:Oltimertreffen
END:VEVENT
BEGIN:VEVENT
DTSTART;TZID=Europe/Berlin:20220625T080000
DTEND;TZID=Europe/Berlin:20220625T170000
DTSTAMP:20260424T103204
CREATED:20220420T212521Z
LAST-MODIFIED:20220420T212521Z
UID:2501-1656144000-1656176400@oldtimer-freunde-manching.de
SUMMARY:Bulldog- und Ape-Treffen in Konstein am Dohlenfelsenparkplatz am Samstag\, den 25.06.2022
DESCRIPTION:Am Samstag den 25.06.2022 ist Bulldog- und Ape-Treffen am Dohlenfelsenparkplatz in Konstein Â Beginn ab 11:00 Uhr. \n  \nwir werden dort am Samstag in der FrÃ¼h hinfahren\, das Bulldogtreffen\, den Stimmungsabend\, das Trachtenfest am Sonntag Â mitmachen und am Sonntag Abend heim fahren. \nDas Bulldogtreffen ist aber nur am Samstag !!! -> Sonntag ist Trachtenfest \nProgramm: \n\n\n\n\n\n\nSamstag\, 25. Juni 2022\n\n\n\n\n\nAb 11.00 Uhr\nBulldog- und Ape-Treffen am Dohlenfelsenparkplatz \nMittagstisch mit der Festkapelle â€žTrachtenkapelle Konsteinâ€œ\n\n\n14.00 Uhr\nBayerischer Nachmittag bei Kaffee und Kuchen mit Auftritten der Trachtenjugend und der Aktiven\n\n\n20.00 Uhr\nStimmungsabend mit Musik von den â€žLausbuamâ€œ \nBarbetrieb\n\n\n\n\n\n\n\n\n\n\n\n\n\n\n\nSonntag\, 26. Juni 2022\n\n\n\n\n\n6.00 Uhr\nWeckruf durch die beiden Blaskapellen und den BÃ¶llerschÃ¼tzen aus Gammersfeld\, HÃ¼tting und RÃ¶gling\n\n\n8.00 Uhr\nEmpfang der Vereine\n\n\n9.30 Uhr\nFestgottesdienst im Zelt mit Segnung des neuen Fahnenbandes\n\n\n10.30 Uhr\nEhrentÃ¤nze der Jugend und Ehrungen \nMittagessen und Kaffee und Kuchen im Festzelt\n\n\n13.30 Uhr\nAufstellung zum Festzug\n\n\n14.00 Uhr\nFestzug\, anschlieÃŸend EhrentÃ¤nze der Gauvereine \nFestausklang mit der Original Urdonautaler Blasmusik
URL:https://oldtimer-freunde-manching.de/event/bulldog-und-ape-treffen-in-konstein-am-dohlenfelsenparkplatz-am-samstag-den-25-06-2022/
CATEGORIES:Oltimertreffen
END:VEVENT
BEGIN:VEVENT
DTSTART;TZID=Europe/Berlin:20220626T080000
DTEND;TZID=Europe/Berlin:20220626T170000
DTSTAMP:20260424T103204
CREATED:20220421T182754Z
LAST-MODIFIED:20220421T182818Z
UID:2503-1656230400-1656262800@oldtimer-freunde-manching.de
SUMMARY:Oldtimertreffen in 85305 Hirschenhausen am 26. Juni 2022
DESCRIPTION:Oldtimertreffen in 85305 Hirschenhausen am 26. Juni 2022
URL:https://oldtimer-freunde-manching.de/event/oldtimertreffen-in-85305-hirschenhausen-am-26-juni-2022/
CATEGORIES:Oltimertreffen
END:VEVENT
END:VCALENDAR