BEGIN:VCALENDAR
VERSION:2.0
PRODID:-//Oldtimer-Freunde Manching - ECPv6.15.13//NONSGML v1.0//EN
CALSCALE:GREGORIAN
METHOD:PUBLISH
X-ORIGINAL-URL:https://oldtimer-freunde-manching.de
X-WR-CALDESC:Veranstaltungen fĂĽr Oldtimer-Freunde Manching
REFRESH-INTERVAL;VALUE=DURATION:PT1H
X-Robots-Tag:noindex
X-PUBLISHED-TTL:PT1H
BEGIN:VTIMEZONE
TZID:Europe/Berlin
BEGIN:DAYLIGHT
TZOFFSETFROM:+0100
TZOFFSETTO:+0200
TZNAME:CEST
DTSTART:20210328T010000
END:DAYLIGHT
BEGIN:STANDARD
TZOFFSETFROM:+0200
TZOFFSETTO:+0100
TZNAME:CET
DTSTART:20211031T010000
END:STANDARD
BEGIN:DAYLIGHT
TZOFFSETFROM:+0100
TZOFFSETTO:+0200
TZNAME:CEST
DTSTART:20220327T010000
END:DAYLIGHT
BEGIN:STANDARD
TZOFFSETFROM:+0200
TZOFFSETTO:+0100
TZNAME:CET
DTSTART:20221030T010000
END:STANDARD
BEGIN:DAYLIGHT
TZOFFSETFROM:+0100
TZOFFSETTO:+0200
TZNAME:CEST
DTSTART:20230326T010000
END:DAYLIGHT
BEGIN:STANDARD
TZOFFSETFROM:+0200
TZOFFSETTO:+0100
TZNAME:CET
DTSTART:20231029T010000
END:STANDARD
END:VTIMEZONE
BEGIN:VEVENT
DTSTART;VALUE=DATE:20220709
DTEND;VALUE=DATE:20220710
DTSTAMP:20260424T083903
CREATED:20220502T172914Z
LAST-MODIFIED:20220502T172914Z
UID:2527-1657324800-1657411199@oldtimer-freunde-manching.de
SUMMARY:Grillfest
DESCRIPTION:Grillfest am SA den 09.07.2022 um 13.30  UHR mit Rundfahrt. \nAb 15:00 Uhr Kaffe und Kuchen \n 
URL:https://oldtimer-freunde-manching.de/event/grillfest-2/
CATEGORIES:Events
END:VEVENT
BEGIN:VEVENT
DTSTART;TZID=Europe/Berlin:20220710T100000
DTEND;TZID=Europe/Berlin:20220710T170000
DTSTAMP:20260424T083903
CREATED:20220429T182415Z
LAST-MODIFIED:20220502T172416Z
UID:2521-1657447200-1657472400@oldtimer-freunde-manching.de
SUMMARY:McCormick IHC Case IH-Treffen 10.07.2022 Appertshofen
DESCRIPTION:Am 10.07.2022 ist in Appertshofen bei: \nGasthaus Rehm \nDorfstraĂźe 20 \n85134 Appertshofen \nMcCormick IHC Case IH-Treffen \nBeginn 10:00 Uhr \nAusweichtermin bei schlechtem Wetter ist der 17.07.2022
URL:https://oldtimer-freunde-manching.de/event/mccormick-ihc-case-ih-treffen-10-07-2022-appertshofen/
CATEGORIES:Oltimertreffen
END:VEVENT
BEGIN:VEVENT
DTSTART;VALUE=DATE:20220716
DTEND;VALUE=DATE:20220718
DTSTAMP:20260424T083903
CREATED:20220706T182653Z
LAST-MODIFIED:20220706T182653Z
UID:2544-1657929600-1658102399@oldtimer-freunde-manching.de
SUMMARY:Seefest
DESCRIPTION:Seefest mit Oldtimertreffen in Semerskirchen am Samstag und Sonntag  den 16/17. 07.2022
URL:https://oldtimer-freunde-manching.de/event/seefest/
CATEGORIES:Oltimertreffen
END:VEVENT
BEGIN:VEVENT
DTSTART;TZID=Europe/Berlin:20220717T080000
DTEND;TZID=Europe/Berlin:20220717T170000
DTSTAMP:20260424T083903
CREATED:20220421T183953Z
LAST-MODIFIED:20220421T192726Z
UID:2508-1658044800-1658077200@oldtimer-freunde-manching.de
SUMMARY:Vohburg Klassik Oldtimertreffen Sonntag\, 17.07.2022 Beginn 9:00 Uhr Stadtplatz Vohburg
DESCRIPTION:
URL:https://oldtimer-freunde-manching.de/event/vohburg-klassik-oldtimertreffen-sonntag-17-07-2022-beginn-900-uhr-stadtplatz-vohburg/
CATEGORIES:Oltimertreffen
END:VEVENT
BEGIN:VEVENT
DTSTART;VALUE=DATE:20220724
DTEND;VALUE=DATE:20220725
DTSTAMP:20260424T083903
CREATED:20220703T182144Z
LAST-MODIFIED:20220703T182156Z
UID:2541-1658620800-1658707199@oldtimer-freunde-manching.de
SUMMARY:Ackerfest Agrar Oldies
DESCRIPTION:Ackerfest Agrar Oldies
URL:https://oldtimer-freunde-manching.de/event/ackerfest-agrar-oldies/
CATEGORIES:Oltimertreffen
END:VEVENT
BEGIN:VEVENT
DTSTART;TZID=Europe/Berlin:20220730T080000
DTEND;TZID=Europe/Berlin:20220731T170000
DTSTAMP:20260424T083903
CREATED:20220421T190251Z
LAST-MODIFIED:20220421T190816Z
UID:2510-1659168000-1659286800@oldtimer-freunde-manching.de
SUMMARY:Wildenberg Oldtimertreffen mit Nachtackern 30.07.22 â€“ 31.07.22
DESCRIPTION:30.07. â€“ 31.07.\n93359 Wildenberg\nOldtimertreffen mit Nachtackern\, Rund-/Geschicklichkeitsfahrt und Fahrzeugweihe\nTel. (01 71) 9 93 46 43\, winfried.rossbauer@t-online.de
URL:https://oldtimer-freunde-manching.de/event/wildenberg-oldtimertreffen-mit-nachtackern-30-07-22-31-07-22/
CATEGORIES:Oltimertreffen
END:VEVENT
BEGIN:VEVENT
DTSTART;TZID=Europe/Berlin:20220731T080000
DTEND;TZID=Europe/Berlin:20220731T170000
DTSTAMP:20260424T083903
CREATED:20220421T183223Z
LAST-MODIFIED:20220421T192636Z
UID:2505-1659254400-1659286800@oldtimer-freunde-manching.de
SUMMARY:Oldtimertreffen Aresing 31.07.22
DESCRIPTION:edes Jahr am letzten Sonntag im Juli findet das Treffen auf der Aresinger Obstwiese statt. Willkommen sind alle Freunde alten Blechs\, Eintritt ist frei. \n  \n  \nDas Oldtimertreffen 2022 soll &#8211; nach dem momentanen Stand &#8211; in gewohnter Weise durchgefĂĽhrt werden. \n\n\n\n\nAuf das VeranstaltungsgelĂ¤nde dĂĽrfen MotorrĂ¤der\, Traktoren und StationĂ¤rmotoren bis Baujahr 1965 sowie Automobile bis Baujahr 1975. Pro Fahrzeug gibt es einen Gutschein fĂĽr ein GetrĂ¤nk und eine Brotzeit\, sowie eine Teilnehmerurkunde. Anmeldungen werden ab 9:00 Uhr entgegen genommen\, Anmeldeschluss ist um 12.00 Uhr. Zu moderaten Preisen werden GetrĂ¤nke und Essen\, sowie Kaffee und Kuchen angeboten. FĂĽr die Kinderunterhaltung ist genauso gesorgt wie fĂĽr die sĂĽĂźen GelĂĽste: Es gibt Softeis aus einer Maschine\, die selbst schon ein Oldtimer ist!
URL:https://oldtimer-freunde-manching.de/event/oldtimertreffen-aresing-31-07-22/
CATEGORIES:Oltimertreffen
END:VEVENT
END:VCALENDAR