BEGIN:VCALENDAR
VERSION:2.0
PRODID:-//Oldtimer-Freunde Manching - ECPv6.15.13//NONSGML v1.0//EN
CALSCALE:GREGORIAN
METHOD:PUBLISH
X-ORIGINAL-URL:https://oldtimer-freunde-manching.de
X-WR-CALDESC:Veranstaltungen fÃ¼r Oldtimer-Freunde Manching
REFRESH-INTERVAL;VALUE=DURATION:PT1H
X-Robots-Tag:noindex
X-PUBLISHED-TTL:PT1H
BEGIN:VTIMEZONE
TZID:Europe/Berlin
BEGIN:DAYLIGHT
TZOFFSETFROM:+0100
TZOFFSETTO:+0200
TZNAME:CEST
DTSTART:20220327T010000
END:DAYLIGHT
BEGIN:STANDARD
TZOFFSETFROM:+0200
TZOFFSETTO:+0100
TZNAME:CET
DTSTART:20221030T010000
END:STANDARD
BEGIN:DAYLIGHT
TZOFFSETFROM:+0100
TZOFFSETTO:+0200
TZNAME:CEST
DTSTART:20230326T010000
END:DAYLIGHT
BEGIN:STANDARD
TZOFFSETFROM:+0200
TZOFFSETTO:+0100
TZNAME:CET
DTSTART:20231029T010000
END:STANDARD
BEGIN:DAYLIGHT
TZOFFSETFROM:+0100
TZOFFSETTO:+0200
TZNAME:CEST
DTSTART:20240331T010000
END:DAYLIGHT
BEGIN:STANDARD
TZOFFSETFROM:+0200
TZOFFSETTO:+0100
TZNAME:CET
DTSTART:20241027T010000
END:STANDARD
END:VTIMEZONE
BEGIN:VEVENT
DTSTART;TZID=Europe/Berlin:20230402T100000
DTEND;TZID=Europe/Berlin:20230402T130000
DTSTAMP:20260423T171237
CREATED:20230309T174626Z
LAST-MODIFIED:20230309T174634Z
UID:2716-1680429600-1680440400@oldtimer-freunde-manching.de
SUMMARY:Oldtimertreffen  HÃ¶gnerhÃ¤usl / Wettstetten
DESCRIPTION:
URL:https://oldtimer-freunde-manching.de/event/oldtimertreffen-hoegnerhaeusl-wettstetten/
CATEGORIES:Oltimertreffen
END:VEVENT
BEGIN:VEVENT
DTSTART;TZID=Europe/Berlin:20230409T100000
DTEND;TZID=Europe/Berlin:20230409T170000
DTSTAMP:20260423T171237
CREATED:20230307T181018Z
LAST-MODIFIED:20230307T181206Z
UID:2637-1681034400-1681059600@oldtimer-freunde-manching.de
SUMMARY:Ostermarkt Emsing Hotel Dirsch
DESCRIPTION:Fahrt zum Ostermarkt nach Emsing mit Mittagessen im Hotel Dirsch.
URL:https://oldtimer-freunde-manching.de/event/ostermarkt-emsing-hotel-dirsch/
CATEGORIES:Events
END:VEVENT
BEGIN:VEVENT
DTSTART;TZID=Europe/Berlin:20230411T180000
DTEND;TZID=Europe/Berlin:20230411T190000
DTSTAMP:20260423T171237
CREATED:20230308T051538Z
LAST-MODIFIED:20230402T135607Z
UID:2665-1681236000-1681239600@oldtimer-freunde-manching.de
SUMMARY:Ausschusssitzung Euringer
DESCRIPTION:
URL:https://oldtimer-freunde-manching.de/event/ausschusssitzung-euringer/
CATEGORIES:Interne Termine
END:VEVENT
BEGIN:VEVENT
DTSTART;TZID=Europe/Berlin:20230411T190000
DTEND;TZID=Europe/Berlin:20230411T220000
DTSTAMP:20260423T171237
CREATED:20230308T052718Z
LAST-MODIFIED:20230402T135506Z
UID:2670-1681239600-1681250400@oldtimer-freunde-manching.de
SUMMARY:Stammtisch Euringer
DESCRIPTION:Landgasthof Hotel Euringer\nManchinger StraÃŸe 29\n85077 Manching / Oberstimm\nDeutschland
URL:https://oldtimer-freunde-manching.de/event/stammtisch-euringer-2/
CATEGORIES:Interne Termine
END:VEVENT
BEGIN:VEVENT
DTSTART;TZID=Europe/Berlin:20230415T110000
DTEND;TZID=Europe/Berlin:20230415T170000
DTSTAMP:20260423T171237
CREATED:20230313T054111Z
LAST-MODIFIED:20230329T042758Z
UID:2775-1681556400-1681578000@oldtimer-freunde-manching.de
SUMMARY:Oldtimertreffen der Feuerwehr Hallbergmoos
DESCRIPTION:  \n\n\n\n\n\n\n\n\n\nOldtimertreffen 15.04.23 / Fahnenweihe 16.04.23\n\n\n\n\n\n\n\n \n\n\n\n\n\n\n\n\n\n\n\n\n\n\n 
URL:https://oldtimer-freunde-manching.de/event/oldtimertreffen-der-feuerwehr-hallbergmoos/
CATEGORIES:Oltimertreffen
END:VEVENT
BEGIN:VEVENT
DTSTART;VALUE=DATE:20230416
DTEND;VALUE=DATE:20230417
DTSTAMP:20260423T171237
CREATED:20230307T181637Z
LAST-MODIFIED:20230307T182024Z
UID:2642-1681603200-1681689599@oldtimer-freunde-manching.de
SUMMARY:Oldtimertreffen am NÃ¼rnberger FrÃ¼hlingsfest
DESCRIPTION:Oldtimertreffen am NÃ¼rnberger FrÃ¼hlingsfest am Duzendteich. \n  \nEine Augenweide fÃ¼r Oldtimer-Liebhaber sind die zahlreichen alten Traktoren\, die sich am Familiensonntag immer zum FrÃ¼hlingsfest am Eingang GroÃŸe StraÃŸe bewundern lassen. \nEin Fachmann stellt Ihnen die einzelnen Traktoren vor\, die teils in langer Anfahrt von weither angereist kommen. Ein TraktorrÃ¤tsel und der Start eines Standmotors sind voraussichtlich weitere Programmpunkte. Sie mÃ¶chten selbst Ihr Fahrzeug prÃ¤sentieren? Melden Sie sich einfach hier an. \nAnmeldung zum Traktortreffen\, vor allem fÃ¼r Camper\, Ã¼ber Tel. 0911-468600\,\ninfo@sueddeutscher-schaustellerverband.de \nDie Anreise ist fÃ¼r Camper bereits am Vortag mÃ¶glich\, Anfahrt nur Ã¼ber BayernstraÃŸe! \nGegen 16 Uhr treten die Bulldogs die Heimfahrt an.
URL:https://oldtimer-freunde-manching.de/event/oldtimertreffen-am-nuernberger-fruehlingsfest/
CATEGORIES:Oltimertreffen
END:VEVENT
BEGIN:VEVENT
DTSTART;VALUE=DATE:20230423
DTEND;VALUE=DATE:20230424
DTSTAMP:20260423T171237
CREATED:20230403T163611Z
LAST-MODIFIED:20230403T163852Z
UID:2820-1682208000-1682294399@oldtimer-freunde-manching.de
SUMMARY:Bulldogtreffen am Handwerkermuseum anlÃ¤sslich Georgiemarkt PfÃ¶rring
DESCRIPTION:Georgimarkt 2023\n\n\n\n\n\nWir freuen uns sehr\, dass es in diesem Jahr endlich wieder soweit ist. Der Georgimarkt steht vor der TÃ¼re und wir laden GroÃŸ und Klein\, Jung und Alt herzlich dazu ein\, mit uns diesen traditionellen Markttag zu feiern. Sie erwartet bei hoffentlich frÃ¼hlingshaftem Wetter ein bunter Mix aus Markttreiben\, Kinderunterhaltung\, Gastronomie sowie viele schÃ¶ne EindrÃ¼cke. Ganz besonders macht unseren Georgimarkt neben der herzlichen\, offenen Gesellschaft auch das Oldtimer-Treffen\, bei dem Sie historische Traktoren\, Autos und MotorrÃ¤der bestaunen kÃ¶nnen. Wir freuen uns auf Ihren Besuch! \n\n\n\n\n\n\n\n\n\n\n\n\n\n\n\n\n\nDas vielfÃ¤ltiges Programm mit zahlreichen Attraktionen umfasst Ausstellungen und EinkaufsmÃ¶glichkeiten bei unseren ortsansÃ¤ssigen GeschÃ¤ften\, exklusiven Angeboten aus der Region von unseren zahlreichen Fieranten\, Ã¼ber Unterhaltungsprogramm bis hin zu den besten Schmankerln aus der heimischen und internationalen KÃ¼che. Ganz besonders macht unseren Georgimarkt neben der herzlichen\, offenen Gesellschaft auch das Oldtimer-Treffen\, bei dem Sie historische Traktoren\, Autos und MotorrÃ¤der bestaunen kÃ¶nnen. \n\n\n\n\n\n\n\n\n\n\n\n\nOldtimertreffen\n\n\n Zahlreiche automobile SchÃ¤tze werden dem Publikum beim jÃ¤hrlichen Fahrzeugkorso am PfÃ¶rringer Marktplatz vorgestellt. Zur genaueren Betrachtung befindet sich das Fahrerlager anschlieÃŸend im Ungergarten. \n\n\n\n\n\n\n\nVerkaufsoffener Sonntag\n\n\nZahlreiche ortsansÃ¤ssige GeschÃ¤fte bieten auch am Marktsonntag interessante Ausstellungen\, sowie attraktive EinkaufsmÃ¶glichkeiten mit exklusiven Aktionen und Angeboten. \n\n\n\n\n\n\n\nTragl-Stapeln\n\n\nDer Marktsonntag bietet ein echtes Highlight fÃ¼r alle Kletterfans! Die vom Jugendtreff PfÃ¶rring organisierte Challenge besteht darin\, sich auf GetrÃ¤nkekisten mÃ¶glichst hoch zu bauen.\n \n\n\n\n\n\n\n\nLÃ¶schÃ¼bungen\n\n\nLassen Sie sich von der Feuerwehrjugend bei speziellen LÃ¶schÃ¼bungen begeistern. AuÃŸerdem gewÃ¤hrt die FFW PfÃ¶rring Einblicke in deren Hallen und stellt die Feuerwehrfahrzeuge vor. \n\n\n\n\n\n\n\nBulldogparade\n\n\nBei Kaffee und Kuchen kÃ¶nnen Sie die Bulldogparade genieÃŸen. Besuchen Sie das Handwerkermuseum und Haus der Vereine\, in denen historische GegenstÃ¤nde ausgestellt werden.\n \n\n\n\n\n\n\n\nLive-Musik & Tanzshow\n\n\nOrtsansÃ¤ssige Tanzgruppen liefern am Marktplatz packende Shows. Bei erstklassiger Livemusik im Ungergarten kÃ¶nnen Sie den Marktsonntag entspannt ausklingen lassen. \n\n\n\n\n\n\nJeden 4. Sonntag im April!
URL:https://oldtimer-freunde-manching.de/event/bulldogtreffen-am-handwerkermuseum-anlaesslich-georgiemarkt-pfoerring/
CATEGORIES:Oltimertreffen
END:VEVENT
BEGIN:VEVENT
DTSTART;VALUE=DATE:20230429
DTEND;VALUE=DATE:20230502
DTSTAMP:20260423T171237
CREATED:20230307T182555Z
LAST-MODIFIED:20230307T182604Z
UID:2647-1682726400-1682985599@oldtimer-freunde-manching.de
SUMMARY:Gewerbemesse Manching mit Oldtimertreffen und Teilemarkt
DESCRIPTION:Jeweils am Samstag Sonntag Montag von 10-18 Uhr.
URL:https://oldtimer-freunde-manching.de/event/gewerbemesse-manching-mit-oldtimertreffen-und-teilemarkt/
CATEGORIES:Oltimertreffen
END:VEVENT
BEGIN:VEVENT
DTSTART;TZID=Europe/Berlin:20230430T093000
DTEND;TZID=Europe/Berlin:20230430T160000
DTSTAMP:20260423T171237
CREATED:20230317T052641Z
LAST-MODIFIED:20230317T052647Z
UID:2796-1682847000-1682870400@oldtimer-freunde-manching.de
SUMMARY:Oldtimertreffen Altenthann
DESCRIPTION:
URL:https://oldtimer-freunde-manching.de/event/oldtimertreffen-altenthann/
CATEGORIES:Oltimertreffen
END:VEVENT
END:VCALENDAR