BEGIN:VCALENDAR
VERSION:2.0
PRODID:-//Oldtimer-Freunde Manching - ECPv6.15.13//NONSGML v1.0//EN
CALSCALE:GREGORIAN
METHOD:PUBLISH
X-ORIGINAL-URL:https://oldtimer-freunde-manching.de
X-WR-CALDESC:Veranstaltungen für Oldtimer-Freunde Manching
REFRESH-INTERVAL;VALUE=DURATION:PT1H
X-Robots-Tag:noindex
X-PUBLISHED-TTL:PT1H
BEGIN:VTIMEZONE
TZID:Europe/Berlin
BEGIN:DAYLIGHT
TZOFFSETFROM:+0100
TZOFFSETTO:+0200
TZNAME:CEST
DTSTART:20220327T010000
END:DAYLIGHT
BEGIN:STANDARD
TZOFFSETFROM:+0200
TZOFFSETTO:+0100
TZNAME:CET
DTSTART:20221030T010000
END:STANDARD
BEGIN:DAYLIGHT
TZOFFSETFROM:+0100
TZOFFSETTO:+0200
TZNAME:CEST
DTSTART:20230326T010000
END:DAYLIGHT
BEGIN:STANDARD
TZOFFSETFROM:+0200
TZOFFSETTO:+0100
TZNAME:CET
DTSTART:20231029T010000
END:STANDARD
BEGIN:DAYLIGHT
TZOFFSETFROM:+0100
TZOFFSETTO:+0200
TZNAME:CEST
DTSTART:20240331T010000
END:DAYLIGHT
BEGIN:STANDARD
TZOFFSETFROM:+0200
TZOFFSETTO:+0100
TZNAME:CET
DTSTART:20241027T010000
END:STANDARD
END:VTIMEZONE
BEGIN:VEVENT
DTSTART;VALUE=DATE:20230429
DTEND;VALUE=DATE:20230502
DTSTAMP:20260423T153708
CREATED:20230307T182555Z
LAST-MODIFIED:20230307T182604Z
UID:2647-1682726400-1682985599@oldtimer-freunde-manching.de
SUMMARY:Gewerbemesse Manching mit Oldtimertreffen und Teilemarkt
DESCRIPTION:Jeweils am Samstag Sonntag Montag von 10-18 Uhr.
URL:https://oldtimer-freunde-manching.de/event/gewerbemesse-manching-mit-oldtimertreffen-und-teilemarkt/
CATEGORIES:Oltimertreffen
END:VEVENT
BEGIN:VEVENT
DTSTART;TZID=Europe/Berlin:20230507T100000
DTEND;TZID=Europe/Berlin:20230507T130000
DTSTAMP:20260423T153708
CREATED:20230309T174727Z
LAST-MODIFIED:20230309T174732Z
UID:2720-1683453600-1683464400@oldtimer-freunde-manching.de
SUMMARY:Oldtimertreffen  Högnerhäusl / Wettstetten
DESCRIPTION:
URL:https://oldtimer-freunde-manching.de/event/oldtimertreffen-hoegnerhaeusl-wettstetten-2/
CATEGORIES:Oltimertreffen
END:VEVENT
BEGIN:VEVENT
DTSTART;TZID=Europe/Berlin:20230507T100000
DTEND;TZID=Europe/Berlin:20230507T170000
DTSTAMP:20260423T153708
CREATED:20230307T183120Z
LAST-MODIFIED:20230307T183133Z
UID:2649-1683453600-1683478800@oldtimer-freunde-manching.de
SUMMARY:Spargelmarkt mit Oldtimertreffen in Sandharlanden am ersten Sonntag im Mai
DESCRIPTION:Spargel- & Bauernmarkt\n\n\n\n\nOrtsteil Sandharlanden\nKirchplatz\n93326 Abensberg\n\nIG Spargelmarkt Sandharlanden\n\n07. Mai 2023 bis 07. Mai 2023\n\nSo 10:00 Uhr
URL:https://oldtimer-freunde-manching.de/event/spargelmarkt-mit-oldtimertreffen-in-sandharlanden-am-ersten-sonntag-im-mai/
CATEGORIES:Oltimertreffen
END:VEVENT
BEGIN:VEVENT
DTSTART;TZID=Europe/Berlin:20230508T190000
DTEND;TZID=Europe/Berlin:20230508T220000
DTSTAMP:20260423T153708
CREATED:20230308T052853Z
LAST-MODIFIED:20230308T052858Z
UID:2672-1683572400-1683583200@oldtimer-freunde-manching.de
SUMMARY:Stammtisch Euringer
DESCRIPTION:Landgasthof Hotel Euringer\nManchinger Straße 29\n85077 Manching / Oberstimm\nDeutschland
URL:https://oldtimer-freunde-manching.de/event/stammtisch-euringer-3/
CATEGORIES:Interne Termine
END:VEVENT
BEGIN:VEVENT
DTSTART;TZID=Europe/Berlin:20230514T100000
DTEND;TZID=Europe/Berlin:20230514T200000
DTSTAMP:20260423T153708
CREATED:20230309T174122Z
LAST-MODIFIED:20230309T174436Z
UID:2711-1684058400-1684094400@oldtimer-freunde-manching.de
SUMMARY:Oldtimertreffen in Windsbach
DESCRIPTION:Oldtimer-Treffen zum großen Vereinsjubiläum\n13./14.05.2023\n\n\n\n\nDer Motorsportclub Windsbach e.V. lädt alle Oldtimer-Liebhaber herzlich zu unserem Oldtimer-Treffen am 14. Mai 2023 ein. Dieses Jahr feiern wir gleichzeitig unser 50-jähriges Vereinsjubiläum und wir würden uns freuen\, dies mit Ihnen zusammen zu feiern. \nIn den vergangenen Jahren haben wir erfolgreich Oldtimer-Treffen im Jahr 2003\, 2008 und 2013 veranstaltet und wir freuen uns darauf\, diese Tradition fortzusetzen. Das Treffen bietet die Möglichkeit\, seltene und historische Fahrzeuge zu sehen und von anderen Enthusiasten zu hören. \nDas Treffen findet im Herzen von Windsbach statt und wird eine Vielzahl von Aktivitäten und Attraktionen für die ganze Familie bieten. Es wird eine Ausstellung von Oldtimern\, sowie ein Rahmenprogramm mit Musik und Essen geben. \nWir freuen uns auf Ihren Besuch und darauf\, gemeinsam mit Ihnen unser 50-jähriges Vereinsjubiläum zu feiern. Melden Sie sich jetzt an und sichern Sie sich Ihren Platz bei einem der aufregendsten Oldtimer-Treffen des Jahres. \nProgrammablauf\nSonntag\, 14.05.2023 \nab 10.00 Uhr Eintreffen der Oldtimer Fahrzeuge \nab 10.30 Uhr Weißwurst-Frühschoppen \nab 10.30 Uhr Live-Musik die Wittmann´s Buam \n\nReichhaltiger Mittagstisch – „fränkisch\, deftig\, gut“ \n13:00 Uhr Muttertagsspezial mit Überraschung & Geschenk \nab 14.00 Uhr Kaffee / Kuchen \n15.30 Uhr Ehrungen und Preisverteilung \n\n\n\n\nHier geht&#8217;s zur Online-Anmeldung!
URL:https://oldtimer-freunde-manching.de/event/oldtimertreffen-in-windsbach/
CATEGORIES:Oltimertreffen
END:VEVENT
BEGIN:VEVENT
DTSTART;TZID=Europe/Berlin:20230521T100000
DTEND;TZID=Europe/Berlin:20230521T160000
DTSTAMP:20260423T153708
CREATED:20230307T191713Z
LAST-MODIFIED:20230307T191721Z
UID:2663-1684663200-1684684800@oldtimer-freunde-manching.de
SUMMARY:Oldtimertreffen am Volksfest in Rudelzhausen
DESCRIPTION:
URL:https://oldtimer-freunde-manching.de/event/oldtimertreffen-am-volksfest-in-rudelzhausen/
CATEGORIES:Oltimertreffen
END:VEVENT
BEGIN:VEVENT
DTSTART;TZID=Europe/Berlin:20230528T110000
DTEND;TZID=Europe/Berlin:20230528T160000
DTSTAMP:20260423T153708
CREATED:20230411T173901Z
LAST-MODIFIED:20230411T173901Z
UID:2829-1685271600-1685289600@oldtimer-freunde-manching.de
SUMMARY:Bulldogtreffen Gauchsdorf
DESCRIPTION:
URL:https://oldtimer-freunde-manching.de/event/bulldogtreffen-gauchsdorf/
CATEGORIES:Oltimertreffen
END:VEVENT
BEGIN:VEVENT
DTSTART;TZID=Europe/Berlin:20230529T100000
DTEND;TZID=Europe/Berlin:20230529T150000
DTSTAMP:20260423T153708
CREATED:20230316T060504Z
LAST-MODIFIED:20230316T060533Z
UID:2792-1685354400-1685372400@oldtimer-freunde-manching.de
SUMMARY:Oldtimertreffen Weichering
DESCRIPTION:29\nMai\n\nOldtimertreffen Weichering\n\n\n\n  \n\n\n\n\n\n\n\n\n\n\n\n\n\n\n\n\n\n\n\n\n\n\nVeranstaltung speichern \n\n\n\n\n\nWeitere Informationen\n\n\n\n\n\n\nRoutenplaner\n\n\n\n\n\n\n\n\n\n\n\n\nTeilen\n\n\n\n\n\n\n\n\n\n\n\n\n\n\n\n\n\n\n\n\n\n\n\n\n \n\n\n\n\n\n\n\n\n\n\n\nDetails\n\n\n\n\nMo.\, 29. Mai\, 10:00\n\n\n\n\n\nLandgasthof Vogelsang oHG\nBahnhofstraße 24\, Weichering\n\n\nHallo Oldtimer-Freunde Landgasthof Vogelsang in Weichering Pfingstmontag 29.05.23 Findet zum 7-mal das Oldtimertreffen in Weichering wieder statt Liebhaber von historischen Autos\, Motorrädern und&#8230;Weitere Informationen zu AllEvents.in
URL:https://oldtimer-freunde-manching.de/event/oldtimertreffen-weichering/
CATEGORIES:Oltimertreffen
END:VEVENT
END:VCALENDAR