BEGIN:VCALENDAR
VERSION:2.0
PRODID:-//Oldtimer-Freunde Manching - ECPv6.15.13//NONSGML v1.0//EN
CALSCALE:GREGORIAN
METHOD:PUBLISH
X-WR-CALNAME:Oldtimer-Freunde Manching
X-ORIGINAL-URL:https://oldtimer-freunde-manching.de
X-WR-CALDESC:Veranstaltungen für Oldtimer-Freunde Manching
REFRESH-INTERVAL;VALUE=DURATION:PT1H
X-Robots-Tag:noindex
X-PUBLISHED-TTL:PT1H
BEGIN:VTIMEZONE
TZID:Europe/Berlin
BEGIN:DAYLIGHT
TZOFFSETFROM:+0100
TZOFFSETTO:+0200
TZNAME:CEST
DTSTART:20220327T010000
END:DAYLIGHT
BEGIN:STANDARD
TZOFFSETFROM:+0200
TZOFFSETTO:+0100
TZNAME:CET
DTSTART:20221030T010000
END:STANDARD
BEGIN:DAYLIGHT
TZOFFSETFROM:+0100
TZOFFSETTO:+0200
TZNAME:CEST
DTSTART:20230326T010000
END:DAYLIGHT
BEGIN:STANDARD
TZOFFSETFROM:+0200
TZOFFSETTO:+0100
TZNAME:CET
DTSTART:20231029T010000
END:STANDARD
BEGIN:DAYLIGHT
TZOFFSETFROM:+0100
TZOFFSETTO:+0200
TZNAME:CEST
DTSTART:20240331T010000
END:DAYLIGHT
BEGIN:STANDARD
TZOFFSETFROM:+0200
TZOFFSETTO:+0100
TZNAME:CET
DTSTART:20241027T010000
END:STANDARD
END:VTIMEZONE
BEGIN:VEVENT
DTSTART;TZID=Europe/Berlin:20230603T100000
DTEND;TZID=Europe/Berlin:20230603T170000
DTSTAMP:20260423T135937
CREATED:20230307T183628Z
LAST-MODIFIED:20230307T183945Z
UID:2651-1685786400-1685811600@oldtimer-freunde-manching.de
SUMMARY:Oldtimertreffen Bad Feilnbach
DESCRIPTION:30 Jahre Auer Burschen &#8211; Oldtimertreffen\n\n\n\n\n  \n\n\n\n\nDatum\n 03. Juni 2023\, 10:00 Uhr  \nVeranstalter\nAuer Burschen e.V.\n| http://www.auer-burschen.de \nVeranstaltungsort\nFestzelt in Au\nWeitmoosweg\n83075 Bad Feilnbach
URL:https://oldtimer-freunde-manching.de/event/oldtimertreffen-bad-feilnbach/
CATEGORIES:Oltimertreffen
END:VEVENT
BEGIN:VEVENT
DTSTART;TZID=Europe/Berlin:20230604T100000
DTEND;TZID=Europe/Berlin:20230604T130000
DTSTAMP:20260423T135937
CREATED:20230309T174834Z
LAST-MODIFIED:20230309T174845Z
UID:2722-1685872800-1685883600@oldtimer-freunde-manching.de
SUMMARY:Oldtimertreffen  Högnerhäusl / Wettstetten
DESCRIPTION:
URL:https://oldtimer-freunde-manching.de/event/oldtimertreffen-hoegnerhaeusl-wettstetten-3/
CATEGORIES:Oltimertreffen
END:VEVENT
BEGIN:VEVENT
DTSTART;TZID=Europe/Berlin:20230604T100000
DTEND;TZID=Europe/Berlin:20230604T150000
DTSTAMP:20260423T135937
CREATED:20230309T174943Z
LAST-MODIFIED:20230309T174951Z
UID:2724-1685872800-1685890800@oldtimer-freunde-manching.de
SUMMARY:Oldtimertreffen in Berching
DESCRIPTION:
URL:https://oldtimer-freunde-manching.de/event/oldtimertreffen-in-berching/
CATEGORIES:Oltimertreffen
END:VEVENT
BEGIN:VEVENT
DTSTART;VALUE=DATE:20230608
DTEND;VALUE=DATE:20230612
DTSTAMP:20260423T135937
CREATED:20230307T184150Z
LAST-MODIFIED:20230307T184155Z
UID:2653-1686182400-1686527999@oldtimer-freunde-manching.de
SUMMARY:Oldtimertreffen Schwimmbach
DESCRIPTION:
URL:https://oldtimer-freunde-manching.de/event/oldtimertreffen-schwimmbach/
CATEGORIES:Oltimertreffen
END:VEVENT
BEGIN:VEVENT
DTSTART;TZID=Europe/Berlin:20230610T100000
DTEND;TZID=Europe/Berlin:20230611T170000
DTSTAMP:20260423T135937
CREATED:20230307T184620Z
LAST-MODIFIED:20230307T184706Z
UID:2655-1686391200-1686502800@oldtimer-freunde-manching.de
SUMMARY:Motorentag im Technikmuseum Kratzmühle
DESCRIPTION:Motorentag im Technikmuseum Kratzmühle\n\n\n\n\n\n\n\n\n\n\n\n\n\n\n\n\n\n\n\nSo finden Sie zu uns!\nTechnik anno dazumal – Museum Kratzmühle\nMühlweg 1\, 85125 Kinding-Pfraundorf \nBusse parken bitte auf dem großen Parkplatz VOR der Brücke\, da diese nicht von Fahrzeugen mit mehr als 12t befahren werden darf.
URL:https://oldtimer-freunde-manching.de/event/motorentag-im-technikmuseum-kratzmuehle/
CATEGORIES:Oltimertreffen
END:VEVENT
BEGIN:VEVENT
DTSTART;TZID=Europe/Berlin:20230616T150000
DTEND;TZID=Europe/Berlin:20230619T170000
DTSTAMP:20260423T135937
CREATED:20230307T185416Z
LAST-MODIFIED:20230307T185437Z
UID:2657-1686927600-1687194000@oldtimer-freunde-manching.de
SUMMARY:Oldtimertreffen Aschau im Chiemgau
DESCRIPTION:Abfahrt Freitag den 16.06.23 um ca 15 Uhr  in Manching .Heimfahrt am Montag den 19.06.23 \n\n\nOldtimer-Bulldog-Treffen\n Sonntag\, 18.06.2023 &#8211; 09:00 Uhr  \nVeranstaltungsort Aschau i.Ch.\n83229 Aschau im Chiemgau \n Kalendereintrag  Drucken  Route planen \n\n\n\n\nMit 150 historische Bulldogs\, Geräten und einer Dampfmaschinenvorführung. Brotzeit &#8211; Musik &#8211; Stimmung. \nVeranstalter:\nBulldog Freunde Aschau i.Ch. 1998 e.V.\,\nGrattenbach 12\n83229 Aschau i.Ch.\nTel.: +49 (0) 8057 9048252 \n\n\n\n\nDiese Veranstaltung findet statt:\n\nSonntag\, 18.06.2023 &#8211; 09:00 Uhr
URL:https://oldtimer-freunde-manching.de/event/oldtimertreffen-aschau-im-chiemgau/
CATEGORIES:Oltimertreffen
END:VEVENT
BEGIN:VEVENT
DTSTART;TZID=Europe/Berlin:20230624T120000
DTEND;TZID=Europe/Berlin:20230624T233000
DTSTAMP:20260423T135937
CREATED:20230307T185710Z
LAST-MODIFIED:20230307T185710Z
UID:2659-1687608000-1687649400@oldtimer-freunde-manching.de
SUMMARY:Grillfeier Oldtimerfreunde Manching Vereinsintern
DESCRIPTION:Grillfeier Oldtimerfreunde Manching Vereinsintern
URL:https://oldtimer-freunde-manching.de/event/grillfeier-oldtimerfreunde-manching-vereinsintern/
CATEGORIES:Interne Termine
END:VEVENT
BEGIN:VEVENT
DTSTART;VALUE=DATE:20230625
DTEND;VALUE=DATE:20230626
DTSTAMP:20260423T135937
CREATED:20230307T190446Z
LAST-MODIFIED:20230307T190453Z
UID:2661-1687651200-1687737599@oldtimer-freunde-manching.de
SUMMARY:Neumarkter Oldtimertreffen
DESCRIPTION:Anmeldung erforderlich unter: https://oldtimertreffen-neumarkt.de/hp1/Startseite.htm \n\nOldtimertreffen 2023\nDas Oldtimertreffen 2023 findet am 25. Juni 2023 statt. \n\n\nDer Zeitplan\n\n\n\nZeitplan\n\n\n8.30–10.00 Uhr\nAnkunft der Teilnehmer\nAufstellung der Fahrzeuge entlang der Marktstraße und am Residenzplatz\n\n\nbis 11.00 Uhr\nAbholung der Startnummern/Nachmeldung Teilnehmer beim Rathaus I\n\n\n10.30 Uhr\nBegrüßung durch den Schirmherrn\, Oberbürgermeister Thomas Thumann am Rathausplatz und Präsentation des Parc Fermé d’Elégance\n\n\n11.15 Uhr\nBegrüßung am Residenzplatz und Präsentation der Sonderschau\n\n\n12.00 Uhr\nPräsentation besonders seltener oder exklusiver Fahrzeuge an der Rathaustribüne durch Organisationsleiter Manfred Schreiner\n\n\n13.45 Uhr\nAufstellung der Fahrzeuge zur Rundfahrt in der Marktstraße und Vorstellung der Teilnehmer an der Rathaustribüne durch Organisationsleiter Manfred Schreiner\n\n\n14.00–15.30 Uhr\nPräsentations-Rundfahrt über ca. 40 km durch den Landkreis Neumarkt;\nTraktoren und kleinere Zweiräder fahren einen kürzeren Stadtkurs\nStartreihenfolge: Motorräder – Traktoren – Automobile\n\n\nim Anschluss\nEhrung der Sieger der Jury-Bewertung durch den Schirmherrn vor der Rathaustribüne
URL:https://oldtimer-freunde-manching.de/event/neumarkter-oldtimertreffen/
CATEGORIES:Oltimertreffen
END:VEVENT
END:VCALENDAR