BEGIN:VCALENDAR
VERSION:2.0
PRODID:-//Oldtimer-Freunde Manching - ECPv6.15.13//NONSGML v1.0//EN
CALSCALE:GREGORIAN
METHOD:PUBLISH
X-ORIGINAL-URL:https://oldtimer-freunde-manching.de
X-WR-CALDESC:Veranstaltungen fÃ¼r Oldtimer-Freunde Manching
REFRESH-INTERVAL;VALUE=DURATION:PT1H
X-Robots-Tag:noindex
X-PUBLISHED-TTL:PT1H
BEGIN:VTIMEZONE
TZID:Europe/Berlin
BEGIN:DAYLIGHT
TZOFFSETFROM:+0100
TZOFFSETTO:+0200
TZNAME:CEST
DTSTART:20220327T010000
END:DAYLIGHT
BEGIN:STANDARD
TZOFFSETFROM:+0200
TZOFFSETTO:+0100
TZNAME:CET
DTSTART:20221030T010000
END:STANDARD
BEGIN:DAYLIGHT
TZOFFSETFROM:+0100
TZOFFSETTO:+0200
TZNAME:CEST
DTSTART:20230326T010000
END:DAYLIGHT
BEGIN:STANDARD
TZOFFSETFROM:+0200
TZOFFSETTO:+0100
TZNAME:CET
DTSTART:20231029T010000
END:STANDARD
BEGIN:DAYLIGHT
TZOFFSETFROM:+0100
TZOFFSETTO:+0200
TZNAME:CEST
DTSTART:20240331T010000
END:DAYLIGHT
BEGIN:STANDARD
TZOFFSETFROM:+0200
TZOFFSETTO:+0100
TZNAME:CET
DTSTART:20241027T010000
END:STANDARD
END:VTIMEZONE
BEGIN:VEVENT
DTSTART;TZID=Europe/Berlin:20230702T100000
DTEND;TZID=Europe/Berlin:20230702T130000
DTSTAMP:20260423T123027
CREATED:20230309T175055Z
LAST-MODIFIED:20230309T175101Z
UID:2726-1688292000-1688302800@oldtimer-freunde-manching.de
SUMMARY:Oldtimertreffen HÃ¶gnerhÃ¤usl/Wettstetten
DESCRIPTION:
URL:https://oldtimer-freunde-manching.de/event/oldtimertreffen-hoegnerhaeusl-wettstetten-4/
CATEGORIES:Oltimertreffen
END:VEVENT
BEGIN:VEVENT
DTSTART;TZID=Europe/Berlin:20230702T100000
DTEND;TZID=Europe/Berlin:20230702T163000
DTSTAMP:20260423T123027
CREATED:20230309T175147Z
LAST-MODIFIED:20230309T175156Z
UID:2728-1688292000-1688315400@oldtimer-freunde-manching.de
SUMMARY:Oldtimertreffen IN Westpark
DESCRIPTION:
URL:https://oldtimer-freunde-manching.de/event/oldtimertreffen-in-westpark/
CATEGORIES:Oltimertreffen
END:VEVENT
BEGIN:VEVENT
DTSTART;TZID=Europe/Berlin:20230703T190000
DTEND;TZID=Europe/Berlin:20230703T220000
DTSTAMP:20260423T123027
CREATED:20230308T053224Z
LAST-MODIFIED:20230308T053233Z
UID:2676-1688410800-1688421600@oldtimer-freunde-manching.de
SUMMARY:Stammtisch Euringer
DESCRIPTION:Landgasthof Hotel Euringer\nManchinger StraÃŸe 29\n85077 Manching / Oberstimm\nDeutschland
URL:https://oldtimer-freunde-manching.de/event/stammtisch-euringer-5/
CATEGORIES:Interne Termine
END:VEVENT
BEGIN:VEVENT
DTSTART;TZID=Europe/Berlin:20230709T090000
DTEND;TZID=Europe/Berlin:20230709T170000
DTSTAMP:20260423T123027
CREATED:20230308T054135Z
LAST-MODIFIED:20230308T054148Z
UID:2688-1688893200-1688922000@oldtimer-freunde-manching.de
SUMMARY:Oldtimertreffen KÃ¶nigsmoos
DESCRIPTION:19. Oldtimertreffen der Oldtimer-Freunde KÃ¶nigsmoos\nam Sonntag\, 09. Juli 2023 in KÃ¶nigsmoos / Ludwigsmoos\nEingeladen sind alle Oldtimer bis Baujahr 1978\nTraktoren â€“ Standmotoren â€“ Autos â€“ MotorrÃ¤der â€“ FahrrÃ¤der\nTreffpunkt: am Vereinsheim der Oldtimer-Freunde neben und hinter der GaststÃ¤tte Kraus\nLudwigstraÃŸe 119 â€“ 86669 KÃ¶nigsmoos / Ludwigsmoos\nBeginn 9:00 Uhr\nfÃ¼r Verpflegung wird im Gasthaus Kraus mit seinem groÃŸen Biergarten (unter groÃŸen alten Eichen) bestens gesorgt.\nvon 9Â°Â° bis 11Â°Â° Uhr gibt es dort auch WeiÃŸwÃ¼rste.\nNatÃ¼rlich wird auch fÃ¼r Kaffee und Kuchen bestens gesorgt sein.\nAnsprechpartner 1. Vorstand Erhard Berger â€“\nTel.: 08433 / 920425 E-Mail: Oldtimer-Freunde-Koenigsmoos@t-online.de
URL:https://oldtimer-freunde-manching.de/event/oldtimertreffen-koenigsmoos-2/
CATEGORIES:Oltimertreffen
END:VEVENT
BEGIN:VEVENT
DTSTART;TZID=Europe/Berlin:20230715T080000
DTEND;TZID=Europe/Berlin:20230715T200000
DTSTAMP:20260423T123027
CREATED:20230308T054935Z
LAST-MODIFIED:20230707T171852Z
UID:2692-1689408000-1689451200@oldtimer-freunde-manching.de
SUMMARY:Fendt Verdampfertreffen in  Marktoberdorf
DESCRIPTION:â˜… 15.07.\n87616 Marktoberdorf\nFendt Verdampfertreffen im Fendt Forum\nFendt Classic Club International e.V.\, Sepp Nuscheler\, Tel. (01 71) 4 13 55 81\, sepp.nuscheler@fendt-classic.com\, https://www.fendt.com/de/fendt-classic-club-international \n  \nProgramm: \n\n\n9 Uhr: Eintreffen der historischen Fahrzeuge\, SicherheitsprÃ¼fung\, Aufstellung nach Fgst.-Nr\n10 Uhr: FrÃ¼hschoppen mit Blasmusik und Beginn Rahmenprogramm &#8222;lebendiges\, historisches AllgÃ¤u&#8220;\n10.30 Uhr: Offizielle ErÃ¶ffnung und BegrÃ¼ÃŸung durch FCCI-Vorstandschaft und Fendt-GeschÃ¤ftsfÃ¼hrung\n11 Uhr: Praktische VorfÃ¼hrungen mit Verdampfern\, Begegnung mit Fahrern und Fahrzeugen\n12 Uhr: PrÃ¤mierung der Fahrzeuge durch eine Fachjury\, Preisverleihung\n14 Uhr: Beginn Rundfahrt durch das Stadtgebiet Marktoberdorf (durch das Fendt Tor\, vorbei an Villa Fam. Fendt)\n16 Uhr: Verabschiedung\n\n\n\nDen ganzen Tag Ã¼ber werden Speisen und GetrÃ¤nke auf dem GelÃ¤nde angeboten.
URL:https://oldtimer-freunde-manching.de/event/fendt-verdampfertreffen-in-marktoberdorf/
CATEGORIES:Oltimertreffen
END:VEVENT
BEGIN:VEVENT
DTSTART;TZID=Europe/Berlin:20230716T090000
DTEND;TZID=Europe/Berlin:20230716T170000
DTSTAMP:20260423T123027
CREATED:20230308T054510Z
LAST-MODIFIED:20230308T054517Z
UID:2690-1689498000-1689526800@oldtimer-freunde-manching.de
SUMMARY:Oldtimertreffen Irgertsheim
DESCRIPTION:
URL:https://oldtimer-freunde-manching.de/event/oldtimertreffen-irgertsheim-2/
CATEGORIES:Oltimertreffen
END:VEVENT
BEGIN:VEVENT
DTSTART;TZID=Europe/Berlin:20230721T080000
DTEND;TZID=Europe/Berlin:20230724T200000
DTSTAMP:20260423T123027
CREATED:20230308T055157Z
LAST-MODIFIED:20230308T055216Z
UID:2694-1689926400-1690228800@oldtimer-freunde-manching.de
SUMMARY:Bulldog Oldtimertreffen in Langenpfunzen Rosenheim
DESCRIPTION:21.07. â€“ 23.07.\n83024 Rosenheim-Langenpfunzen\nBulldog-Oldtimer-Treffen zum 40-jÃ¤hrigen VereinsjubilÃ¤um\, mit Teilemarkt\, auf der Festwiese zwischen Langenpfunzen und Pfaffenhofen am Inn\nBulldog-Club Langenpfunzen e.V.\, Helmut Seidel\, Tel. (01 70) 5 81 92 10\, info@bulldogclub-langenpfunzen.de
URL:https://oldtimer-freunde-manching.de/event/bulldog-oldtimertreffen-in-langenpfunzen-rosenheim/
CATEGORIES:Oltimertreffen
END:VEVENT
BEGIN:VEVENT
DTSTART;TZID=Europe/Berlin:20230729T180000
DTEND;TZID=Europe/Berlin:20230730T180000
DTSTAMP:20260423T123027
CREATED:20230308T055828Z
LAST-MODIFIED:20230308T060324Z
UID:2696-1690653600-1690740000@oldtimer-freunde-manching.de
SUMMARY:Nachtackern und Oldtimertreffen in Wildenberg
DESCRIPTION:FeuerwehrgerÃ¤tehaus Wildenberg\nSiegenburger StraÃŸe 70\n93359 Wildenberg
URL:https://oldtimer-freunde-manching.de/event/nachtackern-und-oldtimertreffen-in-wildenberg/
CATEGORIES:Oltimertreffen
END:VEVENT
BEGIN:VEVENT
DTSTART;VALUE=DATE:20230730
DTEND;VALUE=DATE:20230731
DTSTAMP:20260423T123027
CREATED:20230403T044609Z
LAST-MODIFIED:20230403T044632Z
UID:2815-1690675200-1690761599@oldtimer-freunde-manching.de
SUMMARY:Feldtag Agrar Oldies Rohrbach Ottersried
DESCRIPTION:
URL:https://oldtimer-freunde-manching.de/event/feldtag-agrar-oldies-rohrbach-ottersried/
CATEGORIES:Oltimertreffen
END:VEVENT
END:VCALENDAR