BEGIN:VCALENDAR
VERSION:2.0
PRODID:-//Oldtimer-Freunde Manching - ECPv6.15.13//NONSGML v1.0//EN
CALSCALE:GREGORIAN
METHOD:PUBLISH
X-WR-CALNAME:Oldtimer-Freunde Manching
X-ORIGINAL-URL:https://oldtimer-freunde-manching.de
X-WR-CALDESC:Veranstaltungen für Oldtimer-Freunde Manching
REFRESH-INTERVAL;VALUE=DURATION:PT1H
X-Robots-Tag:noindex
X-PUBLISHED-TTL:PT1H
BEGIN:VTIMEZONE
TZID:Europe/Berlin
BEGIN:DAYLIGHT
TZOFFSETFROM:+0100
TZOFFSETTO:+0200
TZNAME:CEST
DTSTART:20220327T010000
END:DAYLIGHT
BEGIN:STANDARD
TZOFFSETFROM:+0200
TZOFFSETTO:+0100
TZNAME:CET
DTSTART:20221030T010000
END:STANDARD
BEGIN:DAYLIGHT
TZOFFSETFROM:+0100
TZOFFSETTO:+0200
TZNAME:CEST
DTSTART:20230326T010000
END:DAYLIGHT
BEGIN:STANDARD
TZOFFSETFROM:+0200
TZOFFSETTO:+0100
TZNAME:CET
DTSTART:20231029T010000
END:STANDARD
BEGIN:DAYLIGHT
TZOFFSETFROM:+0100
TZOFFSETTO:+0200
TZNAME:CEST
DTSTART:20240331T010000
END:DAYLIGHT
BEGIN:STANDARD
TZOFFSETFROM:+0200
TZOFFSETTO:+0100
TZNAME:CET
DTSTART:20241027T010000
END:STANDARD
END:VTIMEZONE
BEGIN:VEVENT
DTSTART;TZID=Europe/Berlin:20230804T080000
DTEND;TZID=Europe/Berlin:20230807T180000
DTSTAMP:20260421T085158
CREATED:20230309T054550Z
LAST-MODIFIED:20230309T054557Z
UID:2704-1691136000-1691431200@oldtimer-freunde-manching.de
SUMMARY:Bad Windsheim Bulldogtreffen im Freilandmuseum
DESCRIPTION:Abfahrt Freitag 03.08 23 8 Uhr Heimfahrt am 07.08.23 8 Uhr. Anmeldung erforderlich unter: Anmeldeformular \n\nDas große Treffen von Bulldog und Dieselross \n\n\n\n\n10. Oldtimer-Schleppertreffen am 05. und 06. August 2023 von 9 bis 18 Uhr \n\nDas große Treffen von Bulldog und Dieselross: über 500 historische Schlepper und Zugmaschinen von 1921 bis 1969 \nVeranstalter \n\nFränkisches Freilandmuseum des Bezirk Mittelfranken in Bad Windsheim\nSchlepper- und Landmaschinefreunde Tauberfranken e. V
URL:https://oldtimer-freunde-manching.de/event/bad-windsheim-bulldogtreffen-im-freilandmuseum/
CATEGORIES:Oltimertreffen
END:VEVENT
BEGIN:VEVENT
DTSTART;TZID=Europe/Berlin:20230806T093000
DTEND;TZID=Europe/Berlin:20230806T163000
DTSTAMP:20260421T085158
CREATED:20230309T175336Z
LAST-MODIFIED:20230309T175342Z
UID:2732-1691314200-1691339400@oldtimer-freunde-manching.de
SUMMARY:Oldtimertreffen Mühlhausen/Sulz
DESCRIPTION:
URL:https://oldtimer-freunde-manching.de/event/oldtimertreffen-muehlhausen-sulz/
CATEGORIES:Oltimertreffen
END:VEVENT
BEGIN:VEVENT
DTSTART;TZID=Europe/Berlin:20230806T100000
DTEND;TZID=Europe/Berlin:20230806T150000
DTSTAMP:20260421T085158
CREATED:20230309T175243Z
LAST-MODIFIED:20230309T175253Z
UID:2730-1691316000-1691334000@oldtimer-freunde-manching.de
SUMMARY:Oldtimertreffen Pleinfeld/Mackenmühle
DESCRIPTION:
URL:https://oldtimer-freunde-manching.de/event/oldtimertreffen-pleinfeld-mackenmuehle/
CATEGORIES:Oltimertreffen
END:VEVENT
BEGIN:VEVENT
DTSTART;TZID=Europe/Berlin:20230807T190000
DTEND;TZID=Europe/Berlin:20230807T220000
DTSTAMP:20260421T085158
CREATED:20230308T053315Z
LAST-MODIFIED:20230308T053323Z
UID:2678-1691434800-1691445600@oldtimer-freunde-manching.de
SUMMARY:Stammtisch Euringer
DESCRIPTION:Landgasthof Hotel Euringer\nManchinger Straße 29\n85077 Manching / Oberstimm\nDeutschland
URL:https://oldtimer-freunde-manching.de/event/stammtisch-euringer-6/
CATEGORIES:Interne Termine
END:VEVENT
BEGIN:VEVENT
DTSTART;TZID=Europe/Berlin:20230815T090000
DTEND;TZID=Europe/Berlin:20230815T170000
DTSTAMP:20260421T085158
CREATED:20230309T054956Z
LAST-MODIFIED:20230309T055003Z
UID:2706-1692090000-1692118800@oldtimer-freunde-manching.de
SUMMARY:Holder und Bulldogtreffen Puttenhausen
DESCRIPTION:August 15 \n Dorffest + Holdertreffen 2023 \n Vereinsheim SV Puttenhausen   Zimmerlenzenanger 4\, Puttenhausen\, Bayern
URL:https://oldtimer-freunde-manching.de/event/holder-und-bulldogtreffen-puttenhausen/
CATEGORIES:Oltimertreffen
END:VEVENT
BEGIN:VEVENT
DTSTART;TZID=Europe/Berlin:20230826T120000
DTEND;TZID=Europe/Berlin:20230827T170000
DTSTAMP:20260421T085158
CREATED:20230309T055640Z
LAST-MODIFIED:20230309T055645Z
UID:2708-1693051200-1693155600@oldtimer-freunde-manching.de
SUMMARY:Eichertreffen Türkenfeld
DESCRIPTION:Abfahrt Samstag den 26.08.23  gegen Mittag\, Heimfahrt Sonntag den27.08.23 gegen  16/17 Uhr. \nNächstes Eichertreffen\nDas nächste geplante internationale EICHERTREFFEN in Türkenfeld findet am 26.-27. August 2023 statt.
URL:https://oldtimer-freunde-manching.de/event/eichertreffen-tuerkenfeld-2/
CATEGORIES:Oltimertreffen
END:VEVENT
END:VCALENDAR