BEGIN:VCALENDAR
VERSION:2.0
PRODID:-//Oldtimer-Freunde Manching - ECPv6.15.13//NONSGML v1.0//EN
CALSCALE:GREGORIAN
METHOD:PUBLISH
X-ORIGINAL-URL:https://oldtimer-freunde-manching.de
X-WR-CALDESC:Veranstaltungen fÃ¼r Oldtimer-Freunde Manching
REFRESH-INTERVAL;VALUE=DURATION:PT1H
X-Robots-Tag:noindex
X-PUBLISHED-TTL:PT1H
BEGIN:VTIMEZONE
TZID:Europe/Berlin
BEGIN:DAYLIGHT
TZOFFSETFROM:+0100
TZOFFSETTO:+0200
TZNAME:CEST
DTSTART:20230326T010000
END:DAYLIGHT
BEGIN:STANDARD
TZOFFSETFROM:+0200
TZOFFSETTO:+0100
TZNAME:CET
DTSTART:20231029T010000
END:STANDARD
BEGIN:DAYLIGHT
TZOFFSETFROM:+0100
TZOFFSETTO:+0200
TZNAME:CEST
DTSTART:20240331T010000
END:DAYLIGHT
BEGIN:STANDARD
TZOFFSETFROM:+0200
TZOFFSETTO:+0100
TZNAME:CET
DTSTART:20241027T010000
END:STANDARD
BEGIN:DAYLIGHT
TZOFFSETFROM:+0100
TZOFFSETTO:+0200
TZNAME:CEST
DTSTART:20250330T010000
END:DAYLIGHT
BEGIN:STANDARD
TZOFFSETFROM:+0200
TZOFFSETTO:+0100
TZNAME:CET
DTSTART:20251026T010000
END:STANDARD
END:VTIMEZONE
BEGIN:VEVENT
DTSTART;VALUE=DATE:20240706
DTEND;VALUE=DATE:20240707
DTSTAMP:20260420T124252
CREATED:20240617T144754Z
LAST-MODIFIED:20240623T091859Z
UID:2876-1720224000-1720310399@oldtimer-freunde-manching.de
SUMMARY:Grillfest
DESCRIPTION:Grillfest am Samstag den 06.07.2024. \nUm 14:00 Uhr Grillfest der Oldtimerfreunde Manching in der Schlachtbauerhalle. Bitte kommt mit euren Oldtimern. \nFÃ¼r Speiss  und Trank ist gesorgt. \nHallo Unser Grillfest ist wegen der Grossen MÃ¼ckenplage abgesagt.
URL:https://oldtimer-freunde-manching.de/event/grillfest-3/
CATEGORIES:Events
END:VEVENT
BEGIN:VEVENT
DTSTART;VALUE=DATE:20240714
DTEND;VALUE=DATE:20240715
DTSTAMP:20260420T124252
CREATED:20240617T140412Z
LAST-MODIFIED:20240617T140412Z
UID:2861-1720915200-1721001599@oldtimer-freunde-manching.de
SUMMARY:Hopfenfest
DESCRIPTION:Oldtimertreffen in Mainburg \nam 14.07.2024.
URL:https://oldtimer-freunde-manching.de/event/hopfenfest/
LOCATION:Mainburg\, Bayern\, Deutschland
CATEGORIES:Oltimertreffen
END:VEVENT
BEGIN:VEVENT
DTSTART;VALUE=DATE:20240720
DTEND;VALUE=DATE:20240722
DTSTAMP:20260420T124252
CREATED:20240617T143852Z
LAST-MODIFIED:20240617T143853Z
UID:2872-1721433600-1721606399@oldtimer-freunde-manching.de
SUMMARY:Schleppertreffen
DESCRIPTION:Rieser Schleppertreffen 2024 in Ehringen \nProgramm \nSamstag 20.07.2024 \nEintreffen der Schlepper \nBieranstich durch den BÃ¼rgermeister. \nAb21:00Uhr ZÃ¼nftige Musik \nSonntag. es Spiel die Birkhausener Dorfmusik. \n13:30 Uhr Grosse Ausfahrt / Umzug \nab 15:00Uhr Ausgabe der Ehrungsgeschenke.
URL:https://oldtimer-freunde-manching.de/event/schleppertreffen/
LOCATION:Ehringen Ries\, Deutschland
CATEGORIES:Oltimertreffen
END:VEVENT
BEGIN:VEVENT
DTSTART;VALUE=DATE:20240727
DTEND;VALUE=DATE:20240729
DTSTAMP:20260420T124252
CREATED:20240617T140913Z
LAST-MODIFIED:20240617T140914Z
UID:2864-1722038400-1722211199@oldtimer-freunde-manching.de
SUMMARY:Oldtimertreffen
DESCRIPTION:Am Samstag  27.07.2024 in Wildenberg mit Nachtackern. \nSonntag Oldtimerftreffen und Rundfahrt durch den ORT:
URL:https://oldtimer-freunde-manching.de/event/oldtimertreffen/
LOCATION:Wildenberg\, Wildenberg\, 93359\, Deutschland
CATEGORIES:Oltimertreffen
END:VEVENT
END:VCALENDAR