BEGIN:VCALENDAR
VERSION:2.0
PRODID:-//Oldtimer-Freunde Manching - ECPv6.15.13//NONSGML v1.0//EN
CALSCALE:GREGORIAN
METHOD:PUBLISH
X-ORIGINAL-URL:https://oldtimer-freunde-manching.de
X-WR-CALDESC:Veranstaltungen für Oldtimer-Freunde Manching
REFRESH-INTERVAL;VALUE=DURATION:PT1H
X-Robots-Tag:noindex
X-PUBLISHED-TTL:PT1H
BEGIN:VTIMEZONE
TZID:Europe/Berlin
BEGIN:DAYLIGHT
TZOFFSETFROM:+0100
TZOFFSETTO:+0200
TZNAME:CEST
DTSTART:20240331T010000
END:DAYLIGHT
BEGIN:STANDARD
TZOFFSETFROM:+0200
TZOFFSETTO:+0100
TZNAME:CET
DTSTART:20241027T010000
END:STANDARD
BEGIN:DAYLIGHT
TZOFFSETFROM:+0100
TZOFFSETTO:+0200
TZNAME:CEST
DTSTART:20250330T010000
END:DAYLIGHT
BEGIN:STANDARD
TZOFFSETFROM:+0200
TZOFFSETTO:+0100
TZNAME:CET
DTSTART:20251026T010000
END:STANDARD
BEGIN:DAYLIGHT
TZOFFSETFROM:+0100
TZOFFSETTO:+0200
TZNAME:CEST
DTSTART:20260329T010000
END:DAYLIGHT
BEGIN:STANDARD
TZOFFSETFROM:+0200
TZOFFSETTO:+0100
TZNAME:CET
DTSTART:20261025T010000
END:STANDARD
END:VTIMEZONE
BEGIN:VEVENT
DTSTART;VALUE=DATE:20250427
DTEND;VALUE=DATE:20250428
DTSTAMP:20260419T212257
CREATED:20250418T110543Z
LAST-MODIFIED:20250418T110926Z
UID:2905-1745712000-1745798399@oldtimer-freunde-manching.de
SUMMARY:Frühlingsfest
DESCRIPTION:Frühlingsfest in Nürnberg mit Oldtimertreffen am Sonntag .
URL:https://oldtimer-freunde-manching.de/event/ostermarkt/
CATEGORIES:Oltimertreffen
END:VEVENT
BEGIN:VEVENT
DTSTART;VALUE=DATE:20250427
DTEND;VALUE=DATE:20250428
DTSTAMP:20260419T212257
CREATED:20250418T111751Z
LAST-MODIFIED:20250418T111751Z
UID:2909-1745712000-1745798399@oldtimer-freunde-manching.de
SUMMARY:Georgimarkt
DESCRIPTION:Georgimarkt in Pförring mit Oltimertreffen Treffen am Bauerngerätemuseum.
URL:https://oldtimer-freunde-manching.de/event/georgimarkt/
CATEGORIES:Oltimertreffen
END:VEVENT
END:VCALENDAR