BEGIN:VCALENDAR
VERSION:2.0
PRODID:-//Oldtimer-Freunde Manching - ECPv6.15.13//NONSGML v1.0//EN
CALSCALE:GREGORIAN
METHOD:PUBLISH
X-ORIGINAL-URL:https://oldtimer-freunde-manching.de
X-WR-CALDESC:Veranstaltungen fÃ¼r Oldtimer-Freunde Manching
REFRESH-INTERVAL;VALUE=DURATION:PT1H
X-Robots-Tag:noindex
X-PUBLISHED-TTL:PT1H
BEGIN:VTIMEZONE
TZID:Europe/Berlin
BEGIN:DAYLIGHT
TZOFFSETFROM:+0100
TZOFFSETTO:+0200
TZNAME:CEST
DTSTART:20240331T010000
END:DAYLIGHT
BEGIN:STANDARD
TZOFFSETFROM:+0200
TZOFFSETTO:+0100
TZNAME:CET
DTSTART:20241027T010000
END:STANDARD
BEGIN:DAYLIGHT
TZOFFSETFROM:+0100
TZOFFSETTO:+0200
TZNAME:CEST
DTSTART:20250330T010000
END:DAYLIGHT
BEGIN:STANDARD
TZOFFSETFROM:+0200
TZOFFSETTO:+0100
TZNAME:CET
DTSTART:20251026T010000
END:STANDARD
BEGIN:DAYLIGHT
TZOFFSETFROM:+0100
TZOFFSETTO:+0200
TZNAME:CEST
DTSTART:20260329T010000
END:DAYLIGHT
BEGIN:STANDARD
TZOFFSETFROM:+0200
TZOFFSETTO:+0100
TZNAME:CET
DTSTART:20261025T010000
END:STANDARD
END:VTIMEZONE
BEGIN:VEVENT
DTSTART;VALUE=DATE:20250601
DTEND;VALUE=DATE:20250602
DTSTAMP:20260419T175521
CREATED:20250423T133358Z
LAST-MODIFIED:20250423T133358Z
UID:2922-1748736000-1748822399@oldtimer-freunde-manching.de
SUMMARY:Oldtimertreffen
DESCRIPTION:KallmÃ¼nz
URL:https://oldtimer-freunde-manching.de/event/oldtimertreffen-3/
CATEGORIES:Oltimertreffen
END:VEVENT
BEGIN:VEVENT
DTSTART;VALUE=DATE:20250609
DTEND;VALUE=DATE:20250610
DTSTAMP:20260419T175521
CREATED:20250608T123705Z
LAST-MODIFIED:20250608T123705Z
UID:2926-1749427200-1749513599@oldtimer-freunde-manching.de
SUMMARY:Oldtimertreffen
DESCRIPTION:Hallo  Oldtimerfreunde \nAm Pfingstmontag findet ein Oldtimertreffen in Aichkirchen bei Hemau statt. Beim Feuerwehrhaus .
URL:https://oldtimer-freunde-manching.de/event/oldtimertreffen-4/
CATEGORIES:Oltimertreffen
END:VEVENT
BEGIN:VEVENT
DTSTART;VALUE=DATE:20250618
DTEND;VALUE=DATE:20250623
DTSTAMP:20260419T175521
CREATED:20250608T124422Z
LAST-MODIFIED:20250615T115724Z
UID:2929-1750204800-1750636799@oldtimer-freunde-manching.de
SUMMARY:GrÃ¼ndungsfest  in Herngiersdorf
DESCRIPTION:GrÃ¼ndungsfest  und Oldtimertreffen in Herngiersdorf vom 18.06.2025 &#8211; 22.06.2025 \nSK/HG SV&FF GrÃ¼ndungsfest
URL:https://oldtimer-freunde-manching.de/event/gruendungsfest/
CATEGORIES:Events,Oltimertreffen
END:VEVENT
END:VCALENDAR